{"text_format":"1","workbook":"xlsx","n_sheets":2,"sheets":["Tímar","1000 stiga viðmið"],"not_rendered":{"charts":0,"images":0,"macros":1,"external_links":0,"defined_names":0,"comments":0,"pivot_tables":0},"unopened":[],"bounds":{"document_bytes":16777216,"sheet_cells":100000,"rows_first":2000,"rows_last":500,"rows_between":2000,"halvings":0,"cell_chars":16384,"cell_head_chars":4096},"cells_cut":0,"cells_raw":0,"read":"whole","date_system":"1900"}

{"sheet":"Tímar","index":0,"n_rows":42,"n_cols":21,"rows_kept":42,"cut":false,"hidden":false,"merged":[]}
[null,null,null,null,"Veldu stig"]
["Á hvaða tíma þarf ég að synda til að ná ",null,null,null,0,"stigum"]
[]
["Konur"]
[null,"50 skrið","100 skrið","200 skrið","400 skrið","800 skrið","1500 skrið","50 flug","100 flug","200 flug","50 bak","100 bak","200 bak","50 bringa","100 bringa","200 bringa","100 fjór","150 þrí","200 fjór","400 fjór"]
["S1",{"$f":"'1000 stiga viðmið'!B:B/(POWER(Tímar!$E$2,1/3)/10)","v":{"$error":"#DIV/0!"}},{"$f":"'1000 stiga viðmið'!C:C/(POWER(Tímar!$E$2,1/3)/10)","v":{"$error":"#DIV/0!"}},{"$f":"'1000 stiga viðmið'!D:D/(POWER(Tímar!$E$2,1/3)/10)","v":{"$error":"#DIV/0!"}},{"$f":"'1000 stiga viðmið'!E:E/(POWER(Tímar!$E$2,1/3)/10)","v":{"$error":"#DIV/0!"}},{"$f":"'1000 stiga viðmið'!F:F/(POWER(Tímar!$E$2,1/3)/10)","v":{"$error":"#DIV/0!"}},{"$f":"'1000 stiga viðmið'!G:G/(POWER(Tímar!$E$2,1/3)/10)","v":{"$error":"#DIV/0!"}},{"$f":"'1000 stiga viðmið'!H:H/(POWER(Tímar!$E$2,1/3)/10)","v":{"$error":"#DIV/0!"}},{"$f":"'1000 stiga viðmið'!I:I/(POWER(Tímar!$E$2,1/3)/10)","v":{"$error":"#DIV/0!"}},{"$f":"'1000 stiga viðmið'!J:J/(POWER(Tímar!$E$2,1/3)/10)","v":{"$error":"#DIV/0!"}},{"$f":"'1000 stiga viðmið'!K:K/(POWER(Tímar!$E$2,1/3)/10)","v":{"$error":"#DIV/0!"}},{"$f":"'1000 stiga viðmið'!L:L/(POWER(Tímar!$E$2,1/3)/10)","v":{"$error":"#DIV/0!"}},{"$f":"'1000 stiga viðmið'!M:M/(POWER(Tímar!$E$2,1/3)/10)","v":{"$error":"#DIV/0!"}},{"$f":"'1000 stiga viðmið'!N:N/(POWER(Tímar!$E$2,1/3)/10)","v":{"$error":"#DIV/0!"}},{"$f":"'1000 stiga viðmið'!O:O/(POWER(Tímar!$E$2,1/3)/10)","v":{"$error":"#DIV/0!"}},{"$f":"'1000 stiga viðmið'!P:P/(POWER(Tímar!$E$2,1/3)/10)","v":{"$error":"#DIV/0!"}},{"$f":"'1000 stiga viðmið'!Q:Q/(POWER(Tímar!$E$2,1/3)/10)","v":{"$error":"#DIV/0!"}},{"$f":"'1000 stiga viðmið'!R:R/(POWER(Tímar!$E$2,1/3)/10)","v":{"$error":"#DIV/0!"}},{"$f":"'1000 stiga viðmið'!S:S/(POWER(Tímar!$E$2,1/3)/10)","v":{"$error":"#DIV/0!"}},{"$f":"'1000 stiga viðmið'!T:T/(POWER(Tímar!$E$2,1/3)/10)","v":{"$error":"#DIV/0!"}},"S1"]
["S2",{"$f":"'1000 stiga viðmið'!B:B/(POWER(Tímar!$E$2,1/3)/10)","v":{"$error":"#DIV/0!"}},{"$f":"'1000 stiga viðmið'!C:C/(POWER(Tímar!$E$2,1/3)/10)","v":{"$error":"#DIV/0!"}},{"$f":"'1000 stiga viðmið'!D:D/(POWER(Tímar!$E$2,1/3)/10)","v":{"$error":"#DIV/0!"}},{"$f":"'1000 stiga viðmið'!E:E/(POWER(Tímar!$E$2,1/3)/10)","v":{"$error":"#DIV/0!"}},{"$f":"'1000 stiga viðmið'!F:F/(POWER(Tímar!$E$2,1/3)/10)","v":{"$error":"#DIV/0!"}},{"$f":"'1000 stiga viðmið'!G:G/(POWER(Tímar!$E$2,1/3)/10)","v":{"$error":"#DIV/0!"}},{"$f":"'1000 stiga viðmið'!H:H/(POWER(Tímar!$E$2,1/3)/10)","v":{"$error":"#DIV/0!"}},{"$f":"'1000 stiga viðmið'!I:I/(POWER(Tímar!$E$2,1/3)/10)","v":{"$error":"#DIV/0!"}},{"$f":"'1000 stiga viðmið'!J:J/(POWER(Tímar!$E$2,1/3)/10)","v":{"$error":"#DIV/0!"}},{"$f":"'1000 stiga viðmið'!K:K/(POWER(Tímar!$E$2,1/3)/10)","v":{"$error":"#DIV/0!"}},{"$f":"'1000 stiga viðmið'!L:L/(POWER(Tímar!$E$2,1/3)/10)","v":{"$error":"#DIV/0!"}},{"$f":"'1000 stiga viðmið'!M:M/(POWER(Tímar!$E$2,1/3)/10)","v":{"$error":"#DIV/0!"}},{"$f":"'1000 stiga viðmið'!N:N/(POWER(Tímar!$E$2,1/3)/10)","v":{"$error":"#DIV/0!"}},{"$f":"'1000 stiga viðmið'!O:O/(POWER(Tímar!$E$2,1/3)/10)","v":{"$error":"#DIV/0!"}},{"$f":"'1000 stiga viðmið'!P:P/(POWER(Tímar!$E$2,1/3)/10)","v":{"$error":"#DIV/0!"}},{"$f":"'1000 stiga viðmið'!Q:Q/(POWER(Tímar!$E$2,1/3)/10)","v":{"$error":"#DIV/0!"}},{"$f":"'1000 stiga viðmið'!R:R/(POWER(Tímar!$E$2,1/3)/10)","v":{"$error":"#DIV/0!"}},{"$f":"'1000 stiga viðmið'!S:S/(POWER(Tímar!$E$2,1/3)/10)","v":{"$error":"#DIV/0!"}},{"$f":"'1000 stiga viðmið'!T:T/(POWER(Tímar!$E$2,1/3)/10)","v":{"$error":"#DIV/0!"}},"S2"]
["S3",{"$f":"'1000 stiga viðmið'!B:B/(POWER(Tímar!$E$2,1/3)/10)","v":{"$error":"#DIV/0!"}},{"$f":"'1000 stiga viðmið'!C:C/(POWER(Tímar!$E$2,1/3)/10)","v":{"$error":"#DIV/0!"}},{"$f":"'1000 stiga viðmið'!D:D/(POWER(Tímar!$E$2,1/3)/10)","v":{"$error":"#DIV/0!"}},{"$f":"'1000 stiga viðmið'!E:E/(POWER(Tímar!$E$2,1/3)/10)","v":{"$error":"#DIV/0!"}},{"$f":"'1000 stiga viðmið'!F:F/(POWER(Tímar!$E$2,1/3)/10)","v":{"$error":"#DIV/0!"}},{"$f":"'1000 stiga viðmið'!G:G/(POWER(Tímar!$E$2,1/3)/10)","v":{"$error":"#DIV/0!"}},{"$f":"'1000 stiga viðmið'!H:H/(POWER(Tímar!$E$2,1/3)/10)","v":{"$error":"#DIV/0!"}},{"$f":"'1000 stiga viðmið'!I:I/(POWER(Tímar!$E$2,1/3)/10)","v":{"$error":"#DIV/0!"}},{"$f":"'1000 stiga viðmið'!J:J/(POWER(Tímar!$E$2,1/3)/10)","v":{"$error":"#DIV/0!"}},{"$f":"'1000 stiga viðmið'!K:K/(POWER(Tímar!$E$2,1/3)/10)","v":{"$error":"#DIV/0!"}},{"$f":"'1000 stiga viðmið'!L:L/(POWER(Tímar!$E$2,1/3)/10)","v":{"$error":"#DIV/0!"}},{"$f":"'1000 stiga viðmið'!M:M/(POWER(Tímar!$E$2,1/3)/10)","v":{"$error":"#DIV/0!"}},{"$f":"'1000 stiga viðmið'!N:N/(POWER(Tímar!$E$2,1/3)/10)","v":{"$error":"#DIV/0!"}},{"$f":"'1000 stiga viðmið'!O:O/(POWER(Tímar!$E$2,1/3)/10)","v":{"$error":"#DIV/0!"}},{"$f":"'1000 stiga viðmið'!P:P/(POWER(Tímar!$E$2,1/3)/10)","v":{"$error":"#DIV/0!"}},{"$f":"'1000 stiga viðmið'!Q:Q/(POWER(Tímar!$E$2,1/3)/10)","v":{"$error":"#DIV/0!"}},{"$f":"'1000 stiga viðmið'!R:R/(POWER(Tímar!$E$2,1/3)/10)","v":{"$error":"#DIV/0!"}},{"$f":"'1000 stiga viðmið'!S:S/(POWER(Tímar!$E$2,1/3)/10)","v":{"$error":"#DIV/0!"}},{"$f":"'1000 stiga viðmið'!T:T/(POWER(Tímar!$E$2,1/3)/10)","v":{"$error":"#DIV/0!"}},"S3"]
["S4",{"$f":"'1000 stiga viðmið'!B:B/(POWER(Tímar!$E$2,1/3)/10)","v":{"$error":"#DIV/0!"}},{"$f":"'1000 stiga viðmið'!C:C/(POWER(Tímar!$E$2,1/3)/10)","v":{"$error":"#DIV/0!"}},{"$f":"'1000 stiga viðmið'!D:D/(POWER(Tímar!$E$2,1/3)/10)","v":{"$error":"#DIV/0!"}},{"$f":"'1000 stiga viðmið'!E:E/(POWER(Tímar!$E$2,1/3)/10)","v":{"$error":"#DIV/0!"}},{"$f":"'1000 stiga viðmið'!F:F/(POWER(Tímar!$E$2,1/3)/10)","v":{"$error":"#DIV/0!"}},{"$f":"'1000 stiga viðmið'!G:G/(POWER(Tímar!$E$2,1/3)/10)","v":{"$error":"#DIV/0!"}},{"$f":"'1000 stiga viðmið'!H:H/(POWER(Tímar!$E$2,1/3)/10)","v":{"$error":"#DIV/0!"}},{"$f":"'1000 stiga viðmið'!I:I/(POWER(Tímar!$E$2,1/3)/10)","v":{"$error":"#DIV/0!"}},{"$f":"'1000 stiga viðmið'!J:J/(POWER(Tímar!$E$2,1/3)/10)","v":{"$error":"#DIV/0!"}},{"$f":"'1000 stiga viðmið'!K:K/(POWER(Tímar!$E$2,1/3)/10)","v":{"$error":"#DIV/0!"}},{"$f":"'1000 stiga viðmið'!L:L/(POWER(Tímar!$E$2,1/3)/10)","v":{"$error":"#DIV/0!"}},{"$f":"'1000 stiga viðmið'!M:M/(POWER(Tímar!$E$2,1/3)/10)","v":{"$error":"#DIV/0!"}},{"$f":"'1000 stiga viðmið'!N:N/(POWER(Tímar!$E$2,1/3)/10)","v":{"$error":"#DIV/0!"}},{"$f":"'1000 stiga viðmið'!O:O/(POWER(Tímar!$E$2,1/3)/10)","v":{"$error":"#DIV/0!"}},{"$f":"'1000 stiga viðmið'!P:P/(POWER(Tímar!$E$2,1/3)/10)","v":{"$error":"#DIV/0!"}},{"$f":"'1000 stiga viðmið'!Q:Q/(POWER(Tímar!$E$2,1/3)/10)","v":{"$error":"#DIV/0!"}},{"$f":"'1000 stiga viðmið'!R:R/(POWER(Tímar!$E$2,1/3)/10)","v":{"$error":"#DIV/0!"}},{"$f":"'1000 stiga viðmið'!S:S/(POWER(Tímar!$E$2,1/3)/10)","v":{"$error":"#DIV/0!"}},{"$f":"'1000 stiga viðmið'!T:T/(POWER(Tímar!$E$2,1/3)/10)","v":{"$error":"#DIV/0!"}},"S4"]
["S5",{"$f":"'1000 stiga viðmið'!B:B/(POWER(Tímar!$E$2,1/3)/10)","v":{"$error":"#DIV/0!"}},{"$f":"'1000 stiga viðmið'!C:C/(POWER(Tímar!$E$2,1/3)/10)","v":{"$error":"#DIV/0!"}},{"$f":"'1000 stiga viðmið'!D:D/(POWER(Tímar!$E$2,1/3)/10)","v":{"$error":"#DIV/0!"}},{"$f":"'1000 stiga viðmið'!E:E/(POWER(Tímar!$E$2,1/3)/10)","v":{"$error":"#DIV/0!"}},{"$f":"'1000 stiga viðmið'!F:F/(POWER(Tímar!$E$2,1/3)/10)","v":{"$error":"#DIV/0!"}},{"$f":"'1000 stiga viðmið'!G:G/(POWER(Tímar!$E$2,1/3)/10)","v":{"$error":"#DIV/0!"}},{"$f":"'1000 stiga viðmið'!H:H/(POWER(Tímar!$E$2,1/3)/10)","v":{"$error":"#DIV/0!"}},{"$f":"'1000 stiga viðmið'!I:I/(POWER(Tímar!$E$2,1/3)/10)","v":{"$error":"#DIV/0!"}},{"$f":"'1000 stiga viðmið'!J:J/(POWER(Tímar!$E$2,1/3)/10)","v":{"$error":"#DIV/0!"}},{"$f":"'1000 stiga viðmið'!K:K/(POWER(Tímar!$E$2,1/3)/10)","v":{"$error":"#DIV/0!"}},{"$f":"'1000 stiga viðmið'!L:L/(POWER(Tímar!$E$2,1/3)/10)","v":{"$error":"#DIV/0!"}},{"$f":"'1000 stiga viðmið'!M:M/(POWER(Tímar!$E$2,1/3)/10)","v":{"$error":"#DIV/0!"}},{"$f":"'1000 stiga viðmið'!N:N/(POWER(Tímar!$E$2,1/3)/10)","v":{"$error":"#DIV/0!"}},{"$f":"'1000 stiga viðmið'!O:O/(POWER(Tímar!$E$2,1/3)/10)","v":{"$error":"#DIV/0!"}},{"$f":"'1000 stiga viðmið'!P:P/(POWER(Tímar!$E$2,1/3)/10)","v":{"$error":"#DIV/0!"}},{"$f":"'1000 stiga viðmið'!Q:Q/(POWER(Tímar!$E$2,1/3)/10)","v":{"$error":"#DIV/0!"}},{"$f":"'1000 stiga viðmið'!R:R/(POWER(Tímar!$E$2,1/3)/10)","v":{"$error":"#DIV/0!"}},{"$f":"'1000 stiga viðmið'!S:S/(POWER(Tímar!$E$2,1/3)/10)","v":{"$error":"#DIV/0!"}},{"$f":"'1000 stiga viðmið'!T:T/(POWER(Tímar!$E$2,1/3)/10)","v":{"$error":"#DIV/0!"}},"S5"]
["S6",{"$f":"'1000 stiga viðmið'!B:B/(POWER(Tímar!$E$2,1/3)/10)","v":{"$error":"#DIV/0!"}},{"$f":"'1000 stiga viðmið'!C:C/(POWER(Tímar!$E$2,1/3)/10)","v":{"$error":"#DIV/0!"}},{"$f":"'1000 stiga viðmið'!D:D/(POWER(Tímar!$E$2,1/3)/10)","v":{"$error":"#DIV/0!"}},{"$f":"'1000 stiga viðmið'!E:E/(POWER(Tímar!$E$2,1/3)/10)","v":{"$error":"#DIV/0!"}},{"$f":"'1000 stiga viðmið'!F:F/(POWER(Tímar!$E$2,1/3)/10)","v":{"$error":"#DIV/0!"}},{"$f":"'1000 stiga viðmið'!G:G/(POWER(Tímar!$E$2,1/3)/10)","v":{"$error":"#DIV/0!"}},{"$f":"'1000 stiga viðmið'!H:H/(POWER(Tímar!$E$2,1/3)/10)","v":{"$error":"#DIV/0!"}},{"$f":"'1000 stiga viðmið'!I:I/(POWER(Tímar!$E$2,1/3)/10)","v":{"$error":"#DIV/0!"}},{"$f":"'1000 stiga viðmið'!J:J/(POWER(Tímar!$E$2,1/3)/10)","v":{"$error":"#DIV/0!"}},{"$f":"'1000 stiga viðmið'!K:K/(POWER(Tímar!$E$2,1/3)/10)","v":{"$error":"#DIV/0!"}},{"$f":"'1000 stiga viðmið'!L:L/(POWER(Tímar!$E$2,1/3)/10)","v":{"$error":"#DIV/0!"}},{"$f":"'1000 stiga viðmið'!M:M/(POWER(Tímar!$E$2,1/3)/10)","v":{"$error":"#DIV/0!"}},{"$f":"'1000 stiga viðmið'!N:N/(POWER(Tímar!$E$2,1/3)/10)","v":{"$error":"#DIV/0!"}},{"$f":"'1000 stiga viðmið'!O:O/(POWER(Tímar!$E$2,1/3)/10)","v":{"$error":"#DIV/0!"}},{"$f":"'1000 stiga viðmið'!P:P/(POWER(Tímar!$E$2,1/3)/10)","v":{"$error":"#DIV/0!"}},{"$f":"'1000 stiga viðmið'!Q:Q/(POWER(Tímar!$E$2,1/3)/10)","v":{"$error":"#DIV/0!"}},{"$f":"'1000 stiga viðmið'!R:R/(POWER(Tímar!$E$2,1/3)/10)","v":{"$error":"#DIV/0!"}},{"$f":"'1000 stiga viðmið'!S:S/(POWER(Tímar!$E$2,1/3)/10)","v":{"$error":"#DIV/0!"}},{"$f":"'1000 stiga viðmið'!T:T/(POWER(Tímar!$E$2,1/3)/10)","v":{"$error":"#DIV/0!"}},"S6"]
["S7",{"$f":"'1000 stiga viðmið'!B:B/(POWER(Tímar!$E$2,1/3)/10)","v":{"$error":"#DIV/0!"}},{"$f":"'1000 stiga viðmið'!C:C/(POWER(Tímar!$E$2,1/3)/10)","v":{"$error":"#DIV/0!"}},{"$f":"'1000 stiga viðmið'!D:D/(POWER(Tímar!$E$2,1/3)/10)","v":{"$error":"#DIV/0!"}},{"$f":"'1000 stiga viðmið'!E:E/(POWER(Tímar!$E$2,1/3)/10)","v":{"$error":"#DIV/0!"}},{"$f":"'1000 stiga viðmið'!F:F/(POWER(Tímar!$E$2,1/3)/10)","v":{"$error":"#DIV/0!"}},{"$f":"'1000 stiga viðmið'!G:G/(POWER(Tímar!$E$2,1/3)/10)","v":{"$error":"#DIV/0!"}},{"$f":"'1000 stiga viðmið'!H:H/(POWER(Tímar!$E$2,1/3)/10)","v":{"$error":"#DIV/0!"}},{"$f":"'1000 stiga viðmið'!I:I/(POWER(Tímar!$E$2,1/3)/10)","v":{"$error":"#DIV/0!"}},{"$f":"'1000 stiga viðmið'!J:J/(POWER(Tímar!$E$2,1/3)/10)","v":{"$error":"#DIV/0!"}},{"$f":"'1000 stiga viðmið'!K:K/(POWER(Tímar!$E$2,1/3)/10)","v":{"$error":"#DIV/0!"}},{"$f":"'1000 stiga viðmið'!L:L/(POWER(Tímar!$E$2,1/3)/10)","v":{"$error":"#DIV/0!"}},{"$f":"'1000 stiga viðmið'!M:M/(POWER(Tímar!$E$2,1/3)/10)","v":{"$error":"#DIV/0!"}},{"$f":"'1000 stiga viðmið'!N:N/(POWER(Tímar!$E$2,1/3)/10)","v":{"$error":"#DIV/0!"}},{"$f":"'1000 stiga viðmið'!O:O/(POWER(Tímar!$E$2,1/3)/10)","v":{"$error":"#DIV/0!"}},{"$f":"'1000 stiga viðmið'!P:P/(POWER(Tímar!$E$2,1/3)/10)","v":{"$error":"#DIV/0!"}},{"$f":"'1000 stiga viðmið'!Q:Q/(POWER(Tímar!$E$2,1/3)/10)","v":{"$error":"#DIV/0!"}},{"$f":"'1000 stiga viðmið'!R:R/(POWER(Tímar!$E$2,1/3)/10)","v":{"$error":"#DIV/0!"}},{"$f":"'1000 stiga viðmið'!S:S/(POWER(Tímar!$E$2,1/3)/10)","v":{"$error":"#DIV/0!"}},{"$f":"'1000 stiga viðmið'!T:T/(POWER(Tímar!$E$2,1/3)/10)","v":{"$error":"#DIV/0!"}},"S7"]
["S8",{"$f":"'1000 stiga viðmið'!B:B/(POWER(Tímar!$E$2,1/3)/10)","v":{"$error":"#DIV/0!"}},{"$f":"'1000 stiga viðmið'!C:C/(POWER(Tímar!$E$2,1/3)/10)","v":{"$error":"#DIV/0!"}},{"$f":"'1000 stiga viðmið'!D:D/(POWER(Tímar!$E$2,1/3)/10)","v":{"$error":"#DIV/0!"}},{"$f":"'1000 stiga viðmið'!E:E/(POWER(Tímar!$E$2,1/3)/10)","v":{"$error":"#DIV/0!"}},{"$f":"'1000 stiga viðmið'!F:F/(POWER(Tímar!$E$2,1/3)/10)","v":{"$error":"#DIV/0!"}},{"$f":"'1000 stiga viðmið'!G:G/(POWER(Tímar!$E$2,1/3)/10)","v":{"$error":"#DIV/0!"}},{"$f":"'1000 stiga viðmið'!H:H/(POWER(Tímar!$E$2,1/3)/10)","v":{"$error":"#DIV/0!"}},{"$f":"'1000 stiga viðmið'!I:I/(POWER(Tímar!$E$2,1/3)/10)","v":{"$error":"#DIV/0!"}},{"$f":"'1000 stiga viðmið'!J:J/(POWER(Tímar!$E$2,1/3)/10)","v":{"$error":"#DIV/0!"}},{"$f":"'1000 stiga viðmið'!K:K/(POWER(Tímar!$E$2,1/3)/10)","v":{"$error":"#DIV/0!"}},{"$f":"'1000 stiga viðmið'!L:L/(POWER(Tímar!$E$2,1/3)/10)","v":{"$error":"#DIV/0!"}},{"$f":"'1000 stiga viðmið'!M:M/(POWER(Tímar!$E$2,1/3)/10)","v":{"$error":"#DIV/0!"}},{"$f":"'1000 stiga viðmið'!N:N/(POWER(Tímar!$E$2,1/3)/10)","v":{"$error":"#DIV/0!"}},{"$f":"'1000 stiga viðmið'!O:O/(POWER(Tímar!$E$2,1/3)/10)","v":{"$error":"#DIV/0!"}},{"$f":"'1000 stiga viðmið'!P:P/(POWER(Tímar!$E$2,1/3)/10)","v":{"$error":"#DIV/0!"}},{"$f":"'1000 stiga viðmið'!Q:Q/(POWER(Tímar!$E$2,1/3)/10)","v":{"$error":"#DIV/0!"}},{"$f":"'1000 stiga viðmið'!R:R/(POWER(Tímar!$E$2,1/3)/10)","v":{"$error":"#DIV/0!"}},{"$f":"'1000 stiga viðmið'!S:S/(POWER(Tímar!$E$2,1/3)/10)","v":{"$error":"#DIV/0!"}},{"$f":"'1000 stiga viðmið'!T:T/(POWER(Tímar!$E$2,1/3)/10)","v":{"$error":"#DIV/0!"}},"S8"]
["S9",{"$f":"'1000 stiga viðmið'!B:B/(POWER(Tímar!$E$2,1/3)/10)","v":{"$error":"#DIV/0!"}},{"$f":"'1000 stiga viðmið'!C:C/(POWER(Tímar!$E$2,1/3)/10)","v":{"$error":"#DIV/0!"}},{"$f":"'1000 stiga viðmið'!D:D/(POWER(Tímar!$E$2,1/3)/10)","v":{"$error":"#DIV/0!"}},{"$f":"'1000 stiga viðmið'!E:E/(POWER(Tímar!$E$2,1/3)/10)","v":{"$error":"#DIV/0!"}},{"$f":"'1000 stiga viðmið'!F:F/(POWER(Tímar!$E$2,1/3)/10)","v":{"$error":"#DIV/0!"}},{"$f":"'1000 stiga viðmið'!G:G/(POWER(Tímar!$E$2,1/3)/10)","v":{"$error":"#DIV/0!"}},{"$f":"'1000 stiga viðmið'!H:H/(POWER(Tímar!$E$2,1/3)/10)","v":{"$error":"#DIV/0!"}},{"$f":"'1000 stiga viðmið'!I:I/(POWER(Tímar!$E$2,1/3)/10)","v":{"$error":"#DIV/0!"}},{"$f":"'1000 stiga viðmið'!J:J/(POWER(Tímar!$E$2,1/3)/10)","v":{"$error":"#DIV/0!"}},{"$f":"'1000 stiga viðmið'!K:K/(POWER(Tímar!$E$2,1/3)/10)","v":{"$error":"#DIV/0!"}},{"$f":"'1000 stiga viðmið'!L:L/(POWER(Tímar!$E$2,1/3)/10)","v":{"$error":"#DIV/0!"}},{"$f":"'1000 stiga viðmið'!M:M/(POWER(Tímar!$E$2,1/3)/10)","v":{"$error":"#DIV/0!"}},{"$f":"'1000 stiga viðmið'!N:N/(POWER(Tímar!$E$2,1/3)/10)","v":{"$error":"#DIV/0!"}},{"$f":"'1000 stiga viðmið'!O:O/(POWER(Tímar!$E$2,1/3)/10)","v":{"$error":"#DIV/0!"}},{"$f":"'1000 stiga viðmið'!P:P/(POWER(Tímar!$E$2,1/3)/10)","v":{"$error":"#DIV/0!"}},{"$f":"'1000 stiga viðmið'!Q:Q/(POWER(Tímar!$E$2,1/3)/10)","v":{"$error":"#DIV/0!"}},{"$f":"'1000 stiga viðmið'!R:R/(POWER(Tímar!$E$2,1/3)/10)","v":{"$error":"#DIV/0!"}},{"$f":"'1000 stiga viðmið'!S:S/(POWER(Tímar!$E$2,1/3)/10)","v":{"$error":"#DIV/0!"}},{"$f":"'1000 stiga viðmið'!T:T/(POWER(Tímar!$E$2,1/3)/10)","v":{"$error":"#DIV/0!"}},"S9"]
["S10",{"$f":"'1000 stiga viðmið'!B:B/(POWER(Tímar!$E$2,1/3)/10)","v":{"$error":"#DIV/0!"}},{"$f":"'1000 stiga viðmið'!C:C/(POWER(Tímar!$E$2,1/3)/10)","v":{"$error":"#DIV/0!"}},{"$f":"'1000 stiga viðmið'!D:D/(POWER(Tímar!$E$2,1/3)/10)","v":{"$error":"#DIV/0!"}},{"$f":"'1000 stiga viðmið'!E:E/(POWER(Tímar!$E$2,1/3)/10)","v":{"$error":"#DIV/0!"}},{"$f":"'1000 stiga viðmið'!F:F/(POWER(Tímar!$E$2,1/3)/10)","v":{"$error":"#DIV/0!"}},{"$f":"'1000 stiga viðmið'!G:G/(POWER(Tímar!$E$2,1/3)/10)","v":{"$error":"#DIV/0!"}},{"$f":"'1000 stiga viðmið'!H:H/(POWER(Tímar!$E$2,1/3)/10)","v":{"$error":"#DIV/0!"}},{"$f":"'1000 stiga viðmið'!I:I/(POWER(Tímar!$E$2,1/3)/10)","v":{"$error":"#DIV/0!"}},{"$f":"'1000 stiga viðmið'!J:J/(POWER(Tímar!$E$2,1/3)/10)","v":{"$error":"#DIV/0!"}},{"$f":"'1000 stiga viðmið'!K:K/(POWER(Tímar!$E$2,1/3)/10)","v":{"$error":"#DIV/0!"}},{"$f":"'1000 stiga viðmið'!L:L/(POWER(Tímar!$E$2,1/3)/10)","v":{"$error":"#DIV/0!"}},{"$f":"'1000 stiga viðmið'!M:M/(POWER(Tímar!$E$2,1/3)/10)","v":{"$error":"#DIV/0!"}},{"$f":"'1000 stiga viðmið'!N:N/(POWER(Tímar!$E$2,1/3)/10)","v":{"$error":"#DIV/0!"}},{"$f":"'1000 stiga viðmið'!O:O/(POWER(Tímar!$E$2,1/3)/10)","v":{"$error":"#DIV/0!"}},{"$f":"'1000 stiga viðmið'!P:P/(POWER(Tímar!$E$2,1/3)/10)","v":{"$error":"#DIV/0!"}},{"$f":"'1000 stiga viðmið'!Q:Q/(POWER(Tímar!$E$2,1/3)/10)","v":{"$error":"#DIV/0!"}},{"$f":"'1000 stiga viðmið'!R:R/(POWER(Tímar!$E$2,1/3)/10)","v":{"$error":"#DIV/0!"}},{"$f":"'1000 stiga viðmið'!S:S/(POWER(Tímar!$E$2,1/3)/10)","v":{"$error":"#DIV/0!"}},{"$f":"'1000 stiga viðmið'!T:T/(POWER(Tímar!$E$2,1/3)/10)","v":{"$error":"#DIV/0!"}},"S10"]
["S11",{"$f":"'1000 stiga viðmið'!B:B/(POWER(Tímar!$E$2,1/3)/10)","v":{"$error":"#DIV/0!"}},{"$f":"'1000 stiga viðmið'!C:C/(POWER(Tímar!$E$2,1/3)/10)","v":{"$error":"#DIV/0!"}},{"$f":"'1000 stiga viðmið'!D:D/(POWER(Tímar!$E$2,1/3)/10)","v":{"$error":"#DIV/0!"}},{"$f":"'1000 stiga viðmið'!E:E/(POWER(Tímar!$E$2,1/3)/10)","v":{"$error":"#DIV/0!"}},{"$f":"'1000 stiga viðmið'!F:F/(POWER(Tímar!$E$2,1/3)/10)","v":{"$error":"#DIV/0!"}},{"$f":"'1000 stiga viðmið'!G:G/(POWER(Tímar!$E$2,1/3)/10)","v":{"$error":"#DIV/0!"}},{"$f":"'1000 stiga viðmið'!H:H/(POWER(Tímar!$E$2,1/3)/10)","v":{"$error":"#DIV/0!"}},{"$f":"'1000 stiga viðmið'!I:I/(POWER(Tímar!$E$2,1/3)/10)","v":{"$error":"#DIV/0!"}},{"$f":"'1000 stiga viðmið'!J:J/(POWER(Tímar!$E$2,1/3)/10)","v":{"$error":"#DIV/0!"}},{"$f":"'1000 stiga viðmið'!K:K/(POWER(Tímar!$E$2,1/3)/10)","v":{"$error":"#DIV/0!"}},{"$f":"'1000 stiga viðmið'!L:L/(POWER(Tímar!$E$2,1/3)/10)","v":{"$error":"#DIV/0!"}},{"$f":"'1000 stiga viðmið'!M:M/(POWER(Tímar!$E$2,1/3)/10)","v":{"$error":"#DIV/0!"}},{"$f":"'1000 stiga viðmið'!N:N/(POWER(Tímar!$E$2,1/3)/10)","v":{"$error":"#DIV/0!"}},{"$f":"'1000 stiga viðmið'!O:O/(POWER(Tímar!$E$2,1/3)/10)","v":{"$error":"#DIV/0!"}},{"$f":"'1000 stiga viðmið'!P:P/(POWER(Tímar!$E$2,1/3)/10)","v":{"$error":"#DIV/0!"}},{"$f":"'1000 stiga viðmið'!Q:Q/(POWER(Tímar!$E$2,1/3)/10)","v":{"$error":"#DIV/0!"}},{"$f":"'1000 stiga viðmið'!R:R/(POWER(Tímar!$E$2,1/3)/10)","v":{"$error":"#DIV/0!"}},{"$f":"'1000 stiga viðmið'!S:S/(POWER(Tímar!$E$2,1/3)/10)","v":{"$error":"#DIV/0!"}},{"$f":"'1000 stiga viðmið'!T:T/(POWER(Tímar!$E$2,1/3)/10)","v":{"$error":"#DIV/0!"}},"S11"]
["S12",{"$f":"'1000 stiga viðmið'!B:B/(POWER(Tímar!$E$2,1/3)/10)","v":{"$error":"#DIV/0!"}},{"$f":"'1000 stiga viðmið'!C:C/(POWER(Tímar!$E$2,1/3)/10)","v":{"$error":"#DIV/0!"}},{"$f":"'1000 stiga viðmið'!D:D/(POWER(Tímar!$E$2,1/3)/10)","v":{"$error":"#DIV/0!"}},{"$f":"'1000 stiga viðmið'!E:E/(POWER(Tímar!$E$2,1/3)/10)","v":{"$error":"#DIV/0!"}},{"$f":"'1000 stiga viðmið'!F:F/(POWER(Tímar!$E$2,1/3)/10)","v":{"$error":"#DIV/0!"}},{"$f":"'1000 stiga viðmið'!G:G/(POWER(Tímar!$E$2,1/3)/10)","v":{"$error":"#DIV/0!"}},{"$f":"'1000 stiga viðmið'!H:H/(POWER(Tímar!$E$2,1/3)/10)","v":{"$error":"#DIV/0!"}},{"$f":"'1000 stiga viðmið'!I:I/(POWER(Tímar!$E$2,1/3)/10)","v":{"$error":"#DIV/0!"}},{"$f":"'1000 stiga viðmið'!J:J/(POWER(Tímar!$E$2,1/3)/10)","v":{"$error":"#DIV/0!"}},{"$f":"'1000 stiga viðmið'!K:K/(POWER(Tímar!$E$2,1/3)/10)","v":{"$error":"#DIV/0!"}},{"$f":"'1000 stiga viðmið'!L:L/(POWER(Tímar!$E$2,1/3)/10)","v":{"$error":"#DIV/0!"}},{"$f":"'1000 stiga viðmið'!M:M/(POWER(Tímar!$E$2,1/3)/10)","v":{"$error":"#DIV/0!"}},{"$f":"'1000 stiga viðmið'!N:N/(POWER(Tímar!$E$2,1/3)/10)","v":{"$error":"#DIV/0!"}},{"$f":"'1000 stiga viðmið'!O:O/(POWER(Tímar!$E$2,1/3)/10)","v":{"$error":"#DIV/0!"}},{"$f":"'1000 stiga viðmið'!P:P/(POWER(Tímar!$E$2,1/3)/10)","v":{"$error":"#DIV/0!"}},{"$f":"'1000 stiga viðmið'!Q:Q/(POWER(Tímar!$E$2,1/3)/10)","v":{"$error":"#DIV/0!"}},{"$f":"'1000 stiga viðmið'!R:R/(POWER(Tímar!$E$2,1/3)/10)","v":{"$error":"#DIV/0!"}},{"$f":"'1000 stiga viðmið'!S:S/(POWER(Tímar!$E$2,1/3)/10)","v":{"$error":"#DIV/0!"}},{"$f":"'1000 stiga viðmið'!T:T/(POWER(Tímar!$E$2,1/3)/10)","v":{"$error":"#DIV/0!"}},"S12"]
["S13",{"$f":"'1000 stiga viðmið'!B:B/(POWER(Tímar!$E$2,1/3)/10)","v":{"$error":"#DIV/0!"}},{"$f":"'1000 stiga viðmið'!C:C/(POWER(Tímar!$E$2,1/3)/10)","v":{"$error":"#DIV/0!"}},{"$f":"'1000 stiga viðmið'!D:D/(POWER(Tímar!$E$2,1/3)/10)","v":{"$error":"#DIV/0!"}},{"$f":"'1000 stiga viðmið'!E:E/(POWER(Tímar!$E$2,1/3)/10)","v":{"$error":"#DIV/0!"}},{"$f":"'1000 stiga viðmið'!F:F/(POWER(Tímar!$E$2,1/3)/10)","v":{"$error":"#DIV/0!"}},{"$f":"'1000 stiga viðmið'!G:G/(POWER(Tímar!$E$2,1/3)/10)","v":{"$error":"#DIV/0!"}},{"$f":"'1000 stiga viðmið'!H:H/(POWER(Tímar!$E$2,1/3)/10)","v":{"$error":"#DIV/0!"}},{"$f":"'1000 stiga viðmið'!I:I/(POWER(Tímar!$E$2,1/3)/10)","v":{"$error":"#DIV/0!"}},{"$f":"'1000 stiga viðmið'!J:J/(POWER(Tímar!$E$2,1/3)/10)","v":{"$error":"#DIV/0!"}},{"$f":"'1000 stiga viðmið'!K:K/(POWER(Tímar!$E$2,1/3)/10)","v":{"$error":"#DIV/0!"}},{"$f":"'1000 stiga viðmið'!L:L/(POWER(Tímar!$E$2,1/3)/10)","v":{"$error":"#DIV/0!"}},{"$f":"'1000 stiga viðmið'!M:M/(POWER(Tímar!$E$2,1/3)/10)","v":{"$error":"#DIV/0!"}},{"$f":"'1000 stiga viðmið'!N:N/(POWER(Tímar!$E$2,1/3)/10)","v":{"$error":"#DIV/0!"}},{"$f":"'1000 stiga viðmið'!O:O/(POWER(Tímar!$E$2,1/3)/10)","v":{"$error":"#DIV/0!"}},{"$f":"'1000 stiga viðmið'!P:P/(POWER(Tímar!$E$2,1/3)/10)","v":{"$error":"#DIV/0!"}},{"$f":"'1000 stiga viðmið'!Q:Q/(POWER(Tímar!$E$2,1/3)/10)","v":{"$error":"#DIV/0!"}},{"$f":"'1000 stiga viðmið'!R:R/(POWER(Tímar!$E$2,1/3)/10)","v":{"$error":"#DIV/0!"}},{"$f":"'1000 stiga viðmið'!S:S/(POWER(Tímar!$E$2,1/3)/10)","v":{"$error":"#DIV/0!"}},{"$f":"'1000 stiga viðmið'!T:T/(POWER(Tímar!$E$2,1/3)/10)","v":{"$error":"#DIV/0!"}},"S13"]
["S14",{"$f":"'1000 stiga viðmið'!B:B/(POWER(Tímar!$E$2,1/3)/10)","v":{"$error":"#DIV/0!"}},{"$f":"'1000 stiga viðmið'!C:C/(POWER(Tímar!$E$2,1/3)/10)","v":{"$error":"#DIV/0!"}},{"$f":"'1000 stiga viðmið'!D:D/(POWER(Tímar!$E$2,1/3)/10)","v":{"$error":"#DIV/0!"}},{"$f":"'1000 stiga viðmið'!E:E/(POWER(Tímar!$E$2,1/3)/10)","v":{"$error":"#DIV/0!"}},{"$f":"'1000 stiga viðmið'!F:F/(POWER(Tímar!$E$2,1/3)/10)","v":{"$error":"#DIV/0!"}},{"$f":"'1000 stiga viðmið'!G:G/(POWER(Tímar!$E$2,1/3)/10)","v":{"$error":"#DIV/0!"}},{"$f":"'1000 stiga viðmið'!H:H/(POWER(Tímar!$E$2,1/3)/10)","v":{"$error":"#DIV/0!"}},{"$f":"'1000 stiga viðmið'!I:I/(POWER(Tímar!$E$2,1/3)/10)","v":{"$error":"#DIV/0!"}},{"$f":"'1000 stiga viðmið'!J:J/(POWER(Tímar!$E$2,1/3)/10)","v":{"$error":"#DIV/0!"}},{"$f":"'1000 stiga viðmið'!K:K/(POWER(Tímar!$E$2,1/3)/10)","v":{"$error":"#DIV/0!"}},{"$f":"'1000 stiga viðmið'!L:L/(POWER(Tímar!$E$2,1/3)/10)","v":{"$error":"#DIV/0!"}},{"$f":"'1000 stiga viðmið'!M:M/(POWER(Tímar!$E$2,1/3)/10)","v":{"$error":"#DIV/0!"}},{"$f":"'1000 stiga viðmið'!N:N/(POWER(Tímar!$E$2,1/3)/10)","v":{"$error":"#DIV/0!"}},{"$f":"'1000 stiga viðmið'!O:O/(POWER(Tímar!$E$2,1/3)/10)","v":{"$error":"#DIV/0!"}},{"$f":"'1000 stiga viðmið'!P:P/(POWER(Tímar!$E$2,1/3)/10)","v":{"$error":"#DIV/0!"}},{"$f":"'1000 stiga viðmið'!Q:Q/(POWER(Tímar!$E$2,1/3)/10)","v":{"$error":"#DIV/0!"}},{"$f":"'1000 stiga viðmið'!R:R/(POWER(Tímar!$E$2,1/3)/10)","v":{"$error":"#DIV/0!"}},{"$f":"'1000 stiga viðmið'!S:S/(POWER(Tímar!$E$2,1/3)/10)","v":{"$error":"#DIV/0!"}},{"$f":"'1000 stiga viðmið'!T:T/(POWER(Tímar!$E$2,1/3)/10)","v":{"$error":"#DIV/0!"}},"S14"]
["S16",{"$f":"'1000 stiga viðmið'!B:B/(POWER(Tímar!$E$2,1/3)/10)","v":{"$error":"#DIV/0!"}},{"$f":"'1000 stiga viðmið'!C:C/(POWER(Tímar!$E$2,1/3)/10)","v":{"$error":"#DIV/0!"}},{"$f":"'1000 stiga viðmið'!D:D/(POWER(Tímar!$E$2,1/3)/10)","v":{"$error":"#DIV/0!"}},{"$f":"'1000 stiga viðmið'!E:E/(POWER(Tímar!$E$2,1/3)/10)","v":{"$error":"#DIV/0!"}},{"$f":"'1000 stiga viðmið'!F:F/(POWER(Tímar!$E$2,1/3)/10)","v":{"$error":"#DIV/0!"}},{"$f":"'1000 stiga viðmið'!G:G/(POWER(Tímar!$E$2,1/3)/10)","v":{"$error":"#DIV/0!"}},{"$f":"'1000 stiga viðmið'!H:H/(POWER(Tímar!$E$2,1/3)/10)","v":{"$error":"#DIV/0!"}},{"$f":"'1000 stiga viðmið'!I:I/(POWER(Tímar!$E$2,1/3)/10)","v":{"$error":"#DIV/0!"}},{"$f":"'1000 stiga viðmið'!J:J/(POWER(Tímar!$E$2,1/3)/10)","v":{"$error":"#DIV/0!"}},{"$f":"'1000 stiga viðmið'!K:K/(POWER(Tímar!$E$2,1/3)/10)","v":{"$error":"#DIV/0!"}},{"$f":"'1000 stiga viðmið'!L:L/(POWER(Tímar!$E$2,1/3)/10)","v":{"$error":"#DIV/0!"}},{"$f":"'1000 stiga viðmið'!M:M/(POWER(Tímar!$E$2,1/3)/10)","v":{"$error":"#DIV/0!"}},{"$f":"'1000 stiga viðmið'!N:N/(POWER(Tímar!$E$2,1/3)/10)","v":{"$error":"#DIV/0!"}},{"$f":"'1000 stiga viðmið'!O:O/(POWER(Tímar!$E$2,1/3)/10)","v":{"$error":"#DIV/0!"}},{"$f":"'1000 stiga viðmið'!P:P/(POWER(Tímar!$E$2,1/3)/10)","v":{"$error":"#DIV/0!"}},{"$f":"'1000 stiga viðmið'!Q:Q/(POWER(Tímar!$E$2,1/3)/10)","v":{"$error":"#DIV/0!"}},{"$f":"'1000 stiga viðmið'!R:R/(POWER(Tímar!$E$2,1/3)/10)","v":{"$error":"#DIV/0!"}},{"$f":"'1000 stiga viðmið'!S:S/(POWER(Tímar!$E$2,1/3)/10)","v":{"$error":"#DIV/0!"}},{"$f":"'1000 stiga viðmið'!T:T/(POWER(Tímar!$E$2,1/3)/10)","v":{"$error":"#DIV/0!"}},"S15"]
["S18",{"$f":"'1000 stiga viðmið'!B:B/(POWER(Tímar!$E$2,1/3)/10)","v":{"$error":"#DIV/0!"}},{"$f":"'1000 stiga viðmið'!C:C/(POWER(Tímar!$E$2,1/3)/10)","v":{"$error":"#DIV/0!"}},{"$f":"'1000 stiga viðmið'!D:D/(POWER(Tímar!$E$2,1/3)/10)","v":{"$error":"#DIV/0!"}},{"$f":"'1000 stiga viðmið'!E:E/(POWER(Tímar!$E$2,1/3)/10)","v":{"$error":"#DIV/0!"}},{"$f":"'1000 stiga viðmið'!F:F/(POWER(Tímar!$E$2,1/3)/10)","v":{"$error":"#DIV/0!"}},{"$f":"'1000 stiga viðmið'!G:G/(POWER(Tímar!$E$2,1/3)/10)","v":{"$error":"#DIV/0!"}},{"$f":"'1000 stiga viðmið'!H:H/(POWER(Tímar!$E$2,1/3)/10)","v":{"$error":"#DIV/0!"}},{"$f":"'1000 stiga viðmið'!I:I/(POWER(Tímar!$E$2,1/3)/10)","v":{"$error":"#DIV/0!"}},{"$f":"'1000 stiga viðmið'!J:J/(POWER(Tímar!$E$2,1/3)/10)","v":{"$error":"#DIV/0!"}},{"$f":"'1000 stiga viðmið'!K:K/(POWER(Tímar!$E$2,1/3)/10)","v":{"$error":"#DIV/0!"}},{"$f":"'1000 stiga viðmið'!L:L/(POWER(Tímar!$E$2,1/3)/10)","v":{"$error":"#DIV/0!"}},{"$f":"'1000 stiga viðmið'!M:M/(POWER(Tímar!$E$2,1/3)/10)","v":{"$error":"#DIV/0!"}},{"$f":"'1000 stiga viðmið'!N:N/(POWER(Tímar!$E$2,1/3)/10)","v":{"$error":"#DIV/0!"}},{"$f":"'1000 stiga viðmið'!O:O/(POWER(Tímar!$E$2,1/3)/10)","v":{"$error":"#DIV/0!"}},{"$f":"'1000 stiga viðmið'!P:P/(POWER(Tímar!$E$2,1/3)/10)","v":{"$error":"#DIV/0!"}},{"$f":"'1000 stiga viðmið'!Q:Q/(POWER(Tímar!$E$2,1/3)/10)","v":{"$error":"#DIV/0!"}},{"$f":"'1000 stiga viðmið'!R:R/(POWER(Tímar!$E$2,1/3)/10)","v":{"$error":"#DIV/0!"}},{"$f":"'1000 stiga viðmið'!S:S/(POWER(Tímar!$E$2,1/3)/10)","v":{"$error":"#DIV/0!"}},{"$f":"'1000 stiga viðmið'!T:T/(POWER(Tímar!$E$2,1/3)/10)","v":{"$error":"#DIV/0!"}},"S16"]
["S20",{"$f":"'1000 stiga viðmið'!B:B/(POWER(Tímar!$E$2,1/3)/10)","v":{"$error":"#DIV/0!"}},{"$f":"'1000 stiga viðmið'!C:C/(POWER(Tímar!$E$2,1/3)/10)","v":{"$error":"#DIV/0!"}},{"$f":"'1000 stiga viðmið'!D:D/(POWER(Tímar!$E$2,1/3)/10)","v":{"$error":"#DIV/0!"}},{"$f":"'1000 stiga viðmið'!E:E/(POWER(Tímar!$E$2,1/3)/10)","v":{"$error":"#DIV/0!"}},{"$f":"'1000 stiga viðmið'!F:F/(POWER(Tímar!$E$2,1/3)/10)","v":{"$error":"#DIV/0!"}},{"$f":"'1000 stiga viðmið'!G:G/(POWER(Tímar!$E$2,1/3)/10)","v":{"$error":"#DIV/0!"}},{"$f":"'1000 stiga viðmið'!H:H/(POWER(Tímar!$E$2,1/3)/10)","v":{"$error":"#DIV/0!"}},{"$f":"'1000 stiga viðmið'!I:I/(POWER(Tímar!$E$2,1/3)/10)","v":{"$error":"#DIV/0!"}},{"$f":"'1000 stiga viðmið'!J:J/(POWER(Tímar!$E$2,1/3)/10)","v":{"$error":"#DIV/0!"}},{"$f":"'1000 stiga viðmið'!K:K/(POWER(Tímar!$E$2,1/3)/10)","v":{"$error":"#DIV/0!"}},{"$f":"'1000 stiga viðmið'!L:L/(POWER(Tímar!$E$2,1/3)/10)","v":{"$error":"#DIV/0!"}},{"$f":"'1000 stiga viðmið'!M:M/(POWER(Tímar!$E$2,1/3)/10)","v":{"$error":"#DIV/0!"}},{"$f":"'1000 stiga viðmið'!N:N/(POWER(Tímar!$E$2,1/3)/10)","v":{"$error":"#DIV/0!"}},{"$f":"'1000 stiga viðmið'!O:O/(POWER(Tímar!$E$2,1/3)/10)","v":{"$error":"#DIV/0!"}},{"$f":"'1000 stiga viðmið'!P:P/(POWER(Tímar!$E$2,1/3)/10)","v":{"$error":"#DIV/0!"}},{"$f":"'1000 stiga viðmið'!Q:Q/(POWER(Tímar!$E$2,1/3)/10)","v":{"$error":"#DIV/0!"}},{"$f":"'1000 stiga viðmið'!R:R/(POWER(Tímar!$E$2,1/3)/10)","v":{"$error":"#DIV/0!"}},{"$f":"'1000 stiga viðmið'!S:S/(POWER(Tímar!$E$2,1/3)/10)","v":{"$error":"#DIV/0!"}},{"$f":"'1000 stiga viðmið'!T:T/(POWER(Tímar!$E$2,1/3)/10)","v":{"$error":"#DIV/0!"}},"S20"]
[]
["Karlar"]
[null,"50 skrið","100 skrið","200 skrið","400 skrið","800 skrið","1500 skrið","50 flug","100 flug","200 flug","50 bak","100 bak","200 bak","50 bringa","100 bringa","200 bringa","100 fjór","150 þrí","200 fjór","400 fjór"]
["S1",{"$f":"'1000 stiga viðmið'!B:B/(POWER(Tímar!$E$2,1/3)/10)","v":{"$error":"#DIV/0!"}},{"$f":"'1000 stiga viðmið'!C:C/(POWER(Tímar!$E$2,1/3)/10)","v":{"$error":"#DIV/0!"}},{"$f":"'1000 stiga viðmið'!D:D/(POWER(Tímar!$E$2,1/3)/10)","v":{"$error":"#DIV/0!"}},{"$f":"'1000 stiga viðmið'!E:E/(POWER(Tímar!$E$2,1/3)/10)","v":{"$error":"#DIV/0!"}},{"$f":"'1000 stiga viðmið'!F:F/(POWER(Tímar!$E$2,1/3)/10)","v":{"$error":"#DIV/0!"}},{"$f":"'1000 stiga viðmið'!G:G/(POWER(Tímar!$E$2,1/3)/10)","v":{"$error":"#DIV/0!"}},{"$f":"'1000 stiga viðmið'!H:H/(POWER(Tímar!$E$2,1/3)/10)","v":{"$error":"#DIV/0!"}},{"$f":"'1000 stiga viðmið'!I:I/(POWER(Tímar!$E$2,1/3)/10)","v":{"$error":"#DIV/0!"}},{"$f":"'1000 stiga viðmið'!J:J/(POWER(Tímar!$E$2,1/3)/10)","v":{"$error":"#DIV/0!"}},{"$f":"'1000 stiga viðmið'!K:K/(POWER(Tímar!$E$2,1/3)/10)","v":{"$error":"#DIV/0!"}},{"$f":"'1000 stiga viðmið'!L:L/(POWER(Tímar!$E$2,1/3)/10)","v":{"$error":"#DIV/0!"}},{"$f":"'1000 stiga viðmið'!M:M/(POWER(Tímar!$E$2,1/3)/10)","v":{"$error":"#DIV/0!"}},{"$f":"'1000 stiga viðmið'!N:N/(POWER(Tímar!$E$2,1/3)/10)","v":{"$error":"#DIV/0!"}},{"$f":"'1000 stiga viðmið'!O:O/(POWER(Tímar!$E$2,1/3)/10)","v":{"$error":"#DIV/0!"}},{"$f":"'1000 stiga viðmið'!P:P/(POWER(Tímar!$E$2,1/3)/10)","v":{"$error":"#DIV/0!"}},{"$f":"'1000 stiga viðmið'!Q:Q/(POWER(Tímar!$E$2,1/3)/10)","v":{"$error":"#DIV/0!"}},{"$f":"'1000 stiga viðmið'!R:R/(POWER(Tímar!$E$2,1/3)/10)","v":{"$error":"#DIV/0!"}},{"$f":"'1000 stiga viðmið'!S:S/(POWER(Tímar!$E$2,1/3)/10)","v":{"$error":"#DIV/0!"}},{"$f":"'1000 stiga viðmið'!T:T/(POWER(Tímar!$E$2,1/3)/10)","v":{"$error":"#DIV/0!"}},"S1"]
["S2",{"$f":"'1000 stiga viðmið'!B:B/(POWER(Tímar!$E$2,1/3)/10)","v":{"$error":"#DIV/0!"}},{"$f":"'1000 stiga viðmið'!C:C/(POWER(Tímar!$E$2,1/3)/10)","v":{"$error":"#DIV/0!"}},{"$f":"'1000 stiga viðmið'!D:D/(POWER(Tímar!$E$2,1/3)/10)","v":{"$error":"#DIV/0!"}},{"$f":"'1000 stiga viðmið'!E:E/(POWER(Tímar!$E$2,1/3)/10)","v":{"$error":"#DIV/0!"}},{"$f":"'1000 stiga viðmið'!F:F/(POWER(Tímar!$E$2,1/3)/10)","v":{"$error":"#DIV/0!"}},{"$f":"'1000 stiga viðmið'!G:G/(POWER(Tímar!$E$2,1/3)/10)","v":{"$error":"#DIV/0!"}},{"$f":"'1000 stiga viðmið'!H:H/(POWER(Tímar!$E$2,1/3)/10)","v":{"$error":"#DIV/0!"}},{"$f":"'1000 stiga viðmið'!I:I/(POWER(Tímar!$E$2,1/3)/10)","v":{"$error":"#DIV/0!"}},{"$f":"'1000 stiga viðmið'!J:J/(POWER(Tímar!$E$2,1/3)/10)","v":{"$error":"#DIV/0!"}},{"$f":"'1000 stiga viðmið'!K:K/(POWER(Tímar!$E$2,1/3)/10)","v":{"$error":"#DIV/0!"}},{"$f":"'1000 stiga viðmið'!L:L/(POWER(Tímar!$E$2,1/3)/10)","v":{"$error":"#DIV/0!"}},{"$f":"'1000 stiga viðmið'!M:M/(POWER(Tímar!$E$2,1/3)/10)","v":{"$error":"#DIV/0!"}},{"$f":"'1000 stiga viðmið'!N:N/(POWER(Tímar!$E$2,1/3)/10)","v":{"$error":"#DIV/0!"}},{"$f":"'1000 stiga viðmið'!O:O/(POWER(Tímar!$E$2,1/3)/10)","v":{"$error":"#DIV/0!"}},{"$f":"'1000 stiga viðmið'!P:P/(POWER(Tímar!$E$2,1/3)/10)","v":{"$error":"#DIV/0!"}},{"$f":"'1000 stiga viðmið'!Q:Q/(POWER(Tímar!$E$2,1/3)/10)","v":{"$error":"#DIV/0!"}},{"$f":"'1000 stiga viðmið'!R:R/(POWER(Tímar!$E$2,1/3)/10)","v":{"$error":"#DIV/0!"}},{"$f":"'1000 stiga viðmið'!S:S/(POWER(Tímar!$E$2,1/3)/10)","v":{"$error":"#DIV/0!"}},{"$f":"'1000 stiga viðmið'!T:T/(POWER(Tímar!$E$2,1/3)/10)","v":{"$error":"#DIV/0!"}},"S2"]
["S3",{"$f":"'1000 stiga viðmið'!B:B/(POWER(Tímar!$E$2,1/3)/10)","v":{"$error":"#DIV/0!"}},{"$f":"'1000 stiga viðmið'!C:C/(POWER(Tímar!$E$2,1/3)/10)","v":{"$error":"#DIV/0!"}},{"$f":"'1000 stiga viðmið'!D:D/(POWER(Tímar!$E$2,1/3)/10)","v":{"$error":"#DIV/0!"}},{"$f":"'1000 stiga viðmið'!E:E/(POWER(Tímar!$E$2,1/3)/10)","v":{"$error":"#DIV/0!"}},{"$f":"'1000 stiga viðmið'!F:F/(POWER(Tímar!$E$2,1/3)/10)","v":{"$error":"#DIV/0!"}},{"$f":"'1000 stiga viðmið'!G:G/(POWER(Tímar!$E$2,1/3)/10)","v":{"$error":"#DIV/0!"}},{"$f":"'1000 stiga viðmið'!H:H/(POWER(Tímar!$E$2,1/3)/10)","v":{"$error":"#DIV/0!"}},{"$f":"'1000 stiga viðmið'!I:I/(POWER(Tímar!$E$2,1/3)/10)","v":{"$error":"#DIV/0!"}},{"$f":"'1000 stiga viðmið'!J:J/(POWER(Tímar!$E$2,1/3)/10)","v":{"$error":"#DIV/0!"}},{"$f":"'1000 stiga viðmið'!K:K/(POWER(Tímar!$E$2,1/3)/10)","v":{"$error":"#DIV/0!"}},{"$f":"'1000 stiga viðmið'!L:L/(POWER(Tímar!$E$2,1/3)/10)","v":{"$error":"#DIV/0!"}},{"$f":"'1000 stiga viðmið'!M:M/(POWER(Tímar!$E$2,1/3)/10)","v":{"$error":"#DIV/0!"}},{"$f":"'1000 stiga viðmið'!N:N/(POWER(Tímar!$E$2,1/3)/10)","v":{"$error":"#DIV/0!"}},{"$f":"'1000 stiga viðmið'!O:O/(POWER(Tímar!$E$2,1/3)/10)","v":{"$error":"#DIV/0!"}},{"$f":"'1000 stiga viðmið'!P:P/(POWER(Tímar!$E$2,1/3)/10)","v":{"$error":"#DIV/0!"}},{"$f":"'1000 stiga viðmið'!Q:Q/(POWER(Tímar!$E$2,1/3)/10)","v":{"$error":"#DIV/0!"}},{"$f":"'1000 stiga viðmið'!R:R/(POWER(Tímar!$E$2,1/3)/10)","v":{"$error":"#DIV/0!"}},{"$f":"'1000 stiga viðmið'!S:S/(POWER(Tímar!$E$2,1/3)/10)","v":{"$error":"#DIV/0!"}},{"$f":"'1000 stiga viðmið'!T:T/(POWER(Tímar!$E$2,1/3)/10)","v":{"$error":"#DIV/0!"}},"S3"]
["S4",{"$f":"'1000 stiga viðmið'!B:B/(POWER(Tímar!$E$2,1/3)/10)","v":{"$error":"#DIV/0!"}},{"$f":"'1000 stiga viðmið'!C:C/(POWER(Tímar!$E$2,1/3)/10)","v":{"$error":"#DIV/0!"}},{"$f":"'1000 stiga viðmið'!D:D/(POWER(Tímar!$E$2,1/3)/10)","v":{"$error":"#DIV/0!"}},{"$f":"'1000 stiga viðmið'!E:E/(POWER(Tímar!$E$2,1/3)/10)","v":{"$error":"#DIV/0!"}},{"$f":"'1000 stiga viðmið'!F:F/(POWER(Tímar!$E$2,1/3)/10)","v":{"$error":"#DIV/0!"}},{"$f":"'1000 stiga viðmið'!G:G/(POWER(Tímar!$E$2,1/3)/10)","v":{"$error":"#DIV/0!"}},{"$f":"'1000 stiga viðmið'!H:H/(POWER(Tímar!$E$2,1/3)/10)","v":{"$error":"#DIV/0!"}},{"$f":"'1000 stiga viðmið'!I:I/(POWER(Tímar!$E$2,1/3)/10)","v":{"$error":"#DIV/0!"}},{"$f":"'1000 stiga viðmið'!J:J/(POWER(Tímar!$E$2,1/3)/10)","v":{"$error":"#DIV/0!"}},{"$f":"'1000 stiga viðmið'!K:K/(POWER(Tímar!$E$2,1/3)/10)","v":{"$error":"#DIV/0!"}},{"$f":"'1000 stiga viðmið'!L:L/(POWER(Tímar!$E$2,1/3)/10)","v":{"$error":"#DIV/0!"}},{"$f":"'1000 stiga viðmið'!M:M/(POWER(Tímar!$E$2,1/3)/10)","v":{"$error":"#DIV/0!"}},{"$f":"'1000 stiga viðmið'!N:N/(POWER(Tímar!$E$2,1/3)/10)","v":{"$error":"#DIV/0!"}},{"$f":"'1000 stiga viðmið'!O:O/(POWER(Tímar!$E$2,1/3)/10)","v":{"$error":"#DIV/0!"}},{"$f":"'1000 stiga viðmið'!P:P/(POWER(Tímar!$E$2,1/3)/10)","v":{"$error":"#DIV/0!"}},{"$f":"'1000 stiga viðmið'!Q:Q/(POWER(Tímar!$E$2,1/3)/10)","v":{"$error":"#DIV/0!"}},{"$f":"'1000 stiga viðmið'!R:R/(POWER(Tímar!$E$2,1/3)/10)","v":{"$error":"#DIV/0!"}},{"$f":"'1000 stiga viðmið'!S:S/(POWER(Tímar!$E$2,1/3)/10)","v":{"$error":"#DIV/0!"}},{"$f":"'1000 stiga viðmið'!T:T/(POWER(Tímar!$E$2,1/3)/10)","v":{"$error":"#DIV/0!"}},"S4"]
["S5",{"$f":"'1000 stiga viðmið'!B:B/(POWER(Tímar!$E$2,1/3)/10)","v":{"$error":"#DIV/0!"}},{"$f":"'1000 stiga viðmið'!C:C/(POWER(Tímar!$E$2,1/3)/10)","v":{"$error":"#DIV/0!"}},{"$f":"'1000 stiga viðmið'!D:D/(POWER(Tímar!$E$2,1/3)/10)","v":{"$error":"#DIV/0!"}},{"$f":"'1000 stiga viðmið'!E:E/(POWER(Tímar!$E$2,1/3)/10)","v":{"$error":"#DIV/0!"}},{"$f":"'1000 stiga viðmið'!F:F/(POWER(Tímar!$E$2,1/3)/10)","v":{"$error":"#DIV/0!"}},{"$f":"'1000 stiga viðmið'!G:G/(POWER(Tímar!$E$2,1/3)/10)","v":{"$error":"#DIV/0!"}},{"$f":"'1000 stiga viðmið'!H:H/(POWER(Tímar!$E$2,1/3)/10)","v":{"$error":"#DIV/0!"}},{"$f":"'1000 stiga viðmið'!I:I/(POWER(Tímar!$E$2,1/3)/10)","v":{"$error":"#DIV/0!"}},{"$f":"'1000 stiga viðmið'!J:J/(POWER(Tímar!$E$2,1/3)/10)","v":{"$error":"#DIV/0!"}},{"$f":"'1000 stiga viðmið'!K:K/(POWER(Tímar!$E$2,1/3)/10)","v":{"$error":"#DIV/0!"}},{"$f":"'1000 stiga viðmið'!L:L/(POWER(Tímar!$E$2,1/3)/10)","v":{"$error":"#DIV/0!"}},{"$f":"'1000 stiga viðmið'!M:M/(POWER(Tímar!$E$2,1/3)/10)","v":{"$error":"#DIV/0!"}},{"$f":"'1000 stiga viðmið'!N:N/(POWER(Tímar!$E$2,1/3)/10)","v":{"$error":"#DIV/0!"}},{"$f":"'1000 stiga viðmið'!O:O/(POWER(Tímar!$E$2,1/3)/10)","v":{"$error":"#DIV/0!"}},{"$f":"'1000 stiga viðmið'!P:P/(POWER(Tímar!$E$2,1/3)/10)","v":{"$error":"#DIV/0!"}},{"$f":"'1000 stiga viðmið'!Q:Q/(POWER(Tímar!$E$2,1/3)/10)","v":{"$error":"#DIV/0!"}},{"$f":"'1000 stiga viðmið'!R:R/(POWER(Tímar!$E$2,1/3)/10)","v":{"$error":"#DIV/0!"}},{"$f":"'1000 stiga viðmið'!S:S/(POWER(Tímar!$E$2,1/3)/10)","v":{"$error":"#DIV/0!"}},{"$f":"'1000 stiga viðmið'!T:T/(POWER(Tímar!$E$2,1/3)/10)","v":{"$error":"#DIV/0!"}},"S5"]
["S6",{"$f":"'1000 stiga viðmið'!B:B/(POWER(Tímar!$E$2,1/3)/10)","v":{"$error":"#DIV/0!"}},{"$f":"'1000 stiga viðmið'!C:C/(POWER(Tímar!$E$2,1/3)/10)","v":{"$error":"#DIV/0!"}},{"$f":"'1000 stiga viðmið'!D:D/(POWER(Tímar!$E$2,1/3)/10)","v":{"$error":"#DIV/0!"}},{"$f":"'1000 stiga viðmið'!E:E/(POWER(Tímar!$E$2,1/3)/10)","v":{"$error":"#DIV/0!"}},{"$f":"'1000 stiga viðmið'!F:F/(POWER(Tímar!$E$2,1/3)/10)","v":{"$error":"#DIV/0!"}},{"$f":"'1000 stiga viðmið'!G:G/(POWER(Tímar!$E$2,1/3)/10)","v":{"$error":"#DIV/0!"}},{"$f":"'1000 stiga viðmið'!H:H/(POWER(Tímar!$E$2,1/3)/10)","v":{"$error":"#DIV/0!"}},{"$f":"'1000 stiga viðmið'!I:I/(POWER(Tímar!$E$2,1/3)/10)","v":{"$error":"#DIV/0!"}},{"$f":"'1000 stiga viðmið'!J:J/(POWER(Tímar!$E$2,1/3)/10)","v":{"$error":"#DIV/0!"}},{"$f":"'1000 stiga viðmið'!K:K/(POWER(Tímar!$E$2,1/3)/10)","v":{"$error":"#DIV/0!"}},{"$f":"'1000 stiga viðmið'!L:L/(POWER(Tímar!$E$2,1/3)/10)","v":{"$error":"#DIV/0!"}},{"$f":"'1000 stiga viðmið'!M:M/(POWER(Tímar!$E$2,1/3)/10)","v":{"$error":"#DIV/0!"}},{"$f":"'1000 stiga viðmið'!N:N/(POWER(Tímar!$E$2,1/3)/10)","v":{"$error":"#DIV/0!"}},{"$f":"'1000 stiga viðmið'!O:O/(POWER(Tímar!$E$2,1/3)/10)","v":{"$error":"#DIV/0!"}},{"$f":"'1000 stiga viðmið'!P:P/(POWER(Tímar!$E$2,1/3)/10)","v":{"$error":"#DIV/0!"}},{"$f":"'1000 stiga viðmið'!Q:Q/(POWER(Tímar!$E$2,1/3)/10)","v":{"$error":"#DIV/0!"}},{"$f":"'1000 stiga viðmið'!R:R/(POWER(Tímar!$E$2,1/3)/10)","v":{"$error":"#DIV/0!"}},{"$f":"'1000 stiga viðmið'!S:S/(POWER(Tímar!$E$2,1/3)/10)","v":{"$error":"#DIV/0!"}},{"$f":"'1000 stiga viðmið'!T:T/(POWER(Tímar!$E$2,1/3)/10)","v":{"$error":"#DIV/0!"}},"S6"]
["S7",{"$f":"'1000 stiga viðmið'!B:B/(POWER(Tímar!$E$2,1/3)/10)","v":{"$error":"#DIV/0!"}},{"$f":"'1000 stiga viðmið'!C:C/(POWER(Tímar!$E$2,1/3)/10)","v":{"$error":"#DIV/0!"}},{"$f":"'1000 stiga viðmið'!D:D/(POWER(Tímar!$E$2,1/3)/10)","v":{"$error":"#DIV/0!"}},{"$f":"'1000 stiga viðmið'!E:E/(POWER(Tímar!$E$2,1/3)/10)","v":{"$error":"#DIV/0!"}},{"$f":"'1000 stiga viðmið'!F:F/(POWER(Tímar!$E$2,1/3)/10)","v":{"$error":"#DIV/0!"}},{"$f":"'1000 stiga viðmið'!G:G/(POWER(Tímar!$E$2,1/3)/10)","v":{"$error":"#DIV/0!"}},{"$f":"'1000 stiga viðmið'!H:H/(POWER(Tímar!$E$2,1/3)/10)","v":{"$error":"#DIV/0!"}},{"$f":"'1000 stiga viðmið'!I:I/(POWER(Tímar!$E$2,1/3)/10)","v":{"$error":"#DIV/0!"}},{"$f":"'1000 stiga viðmið'!J:J/(POWER(Tímar!$E$2,1/3)/10)","v":{"$error":"#DIV/0!"}},{"$f":"'1000 stiga viðmið'!K:K/(POWER(Tímar!$E$2,1/3)/10)","v":{"$error":"#DIV/0!"}},{"$f":"'1000 stiga viðmið'!L:L/(POWER(Tímar!$E$2,1/3)/10)","v":{"$error":"#DIV/0!"}},{"$f":"'1000 stiga viðmið'!M:M/(POWER(Tímar!$E$2,1/3)/10)","v":{"$error":"#DIV/0!"}},{"$f":"'1000 stiga viðmið'!N:N/(POWER(Tímar!$E$2,1/3)/10)","v":{"$error":"#DIV/0!"}},{"$f":"'1000 stiga viðmið'!O:O/(POWER(Tímar!$E$2,1/3)/10)","v":{"$error":"#DIV/0!"}},{"$f":"'1000 stiga viðmið'!P:P/(POWER(Tímar!$E$2,1/3)/10)","v":{"$error":"#DIV/0!"}},{"$f":"'1000 stiga viðmið'!Q:Q/(POWER(Tímar!$E$2,1/3)/10)","v":{"$error":"#DIV/0!"}},{"$f":"'1000 stiga viðmið'!R:R/(POWER(Tímar!$E$2,1/3)/10)","v":{"$error":"#DIV/0!"}},{"$f":"'1000 stiga viðmið'!S:S/(POWER(Tímar!$E$2,1/3)/10)","v":{"$error":"#DIV/0!"}},{"$f":"'1000 stiga viðmið'!T:T/(POWER(Tímar!$E$2,1/3)/10)","v":{"$error":"#DIV/0!"}},"S7"]
["S8",{"$f":"'1000 stiga viðmið'!B:B/(POWER(Tímar!$E$2,1/3)/10)","v":{"$error":"#DIV/0!"}},{"$f":"'1000 stiga viðmið'!C:C/(POWER(Tímar!$E$2,1/3)/10)","v":{"$error":"#DIV/0!"}},{"$f":"'1000 stiga viðmið'!D:D/(POWER(Tímar!$E$2,1/3)/10)","v":{"$error":"#DIV/0!"}},{"$f":"'1000 stiga viðmið'!E:E/(POWER(Tímar!$E$2,1/3)/10)","v":{"$error":"#DIV/0!"}},{"$f":"'1000 stiga viðmið'!F:F/(POWER(Tímar!$E$2,1/3)/10)","v":{"$error":"#DIV/0!"}},{"$f":"'1000 stiga viðmið'!G:G/(POWER(Tímar!$E$2,1/3)/10)","v":{"$error":"#DIV/0!"}},{"$f":"'1000 stiga viðmið'!H:H/(POWER(Tímar!$E$2,1/3)/10)","v":{"$error":"#DIV/0!"}},{"$f":"'1000 stiga viðmið'!I:I/(POWER(Tímar!$E$2,1/3)/10)","v":{"$error":"#DIV/0!"}},{"$f":"'1000 stiga viðmið'!J:J/(POWER(Tímar!$E$2,1/3)/10)","v":{"$error":"#DIV/0!"}},{"$f":"'1000 stiga viðmið'!K:K/(POWER(Tímar!$E$2,1/3)/10)","v":{"$error":"#DIV/0!"}},{"$f":"'1000 stiga viðmið'!L:L/(POWER(Tímar!$E$2,1/3)/10)","v":{"$error":"#DIV/0!"}},{"$f":"'1000 stiga viðmið'!M:M/(POWER(Tímar!$E$2,1/3)/10)","v":{"$error":"#DIV/0!"}},{"$f":"'1000 stiga viðmið'!N:N/(POWER(Tímar!$E$2,1/3)/10)","v":{"$error":"#DIV/0!"}},{"$f":"'1000 stiga viðmið'!O:O/(POWER(Tímar!$E$2,1/3)/10)","v":{"$error":"#DIV/0!"}},{"$f":"'1000 stiga viðmið'!P:P/(POWER(Tímar!$E$2,1/3)/10)","v":{"$error":"#DIV/0!"}},{"$f":"'1000 stiga viðmið'!Q:Q/(POWER(Tímar!$E$2,1/3)/10)","v":{"$error":"#DIV/0!"}},{"$f":"'1000 stiga viðmið'!R:R/(POWER(Tímar!$E$2,1/3)/10)","v":{"$error":"#DIV/0!"}},{"$f":"'1000 stiga viðmið'!S:S/(POWER(Tímar!$E$2,1/3)/10)","v":{"$error":"#DIV/0!"}},{"$f":"'1000 stiga viðmið'!T:T/(POWER(Tímar!$E$2,1/3)/10)","v":{"$error":"#DIV/0!"}},"S8"]
["S9",{"$f":"'1000 stiga viðmið'!B:B/(POWER(Tímar!$E$2,1/3)/10)","v":{"$error":"#DIV/0!"}},{"$f":"'1000 stiga viðmið'!C:C/(POWER(Tímar!$E$2,1/3)/10)","v":{"$error":"#DIV/0!"}},{"$f":"'1000 stiga viðmið'!D:D/(POWER(Tímar!$E$2,1/3)/10)","v":{"$error":"#DIV/0!"}},{"$f":"'1000 stiga viðmið'!E:E/(POWER(Tímar!$E$2,1/3)/10)","v":{"$error":"#DIV/0!"}},{"$f":"'1000 stiga viðmið'!F:F/(POWER(Tímar!$E$2,1/3)/10)","v":{"$error":"#DIV/0!"}},{"$f":"'1000 stiga viðmið'!G:G/(POWER(Tímar!$E$2,1/3)/10)","v":{"$error":"#DIV/0!"}},{"$f":"'1000 stiga viðmið'!H:H/(POWER(Tímar!$E$2,1/3)/10)","v":{"$error":"#DIV/0!"}},{"$f":"'1000 stiga viðmið'!I:I/(POWER(Tímar!$E$2,1/3)/10)","v":{"$error":"#DIV/0!"}},{"$f":"'1000 stiga viðmið'!J:J/(POWER(Tímar!$E$2,1/3)/10)","v":{"$error":"#DIV/0!"}},{"$f":"'1000 stiga viðmið'!K:K/(POWER(Tímar!$E$2,1/3)/10)","v":{"$error":"#DIV/0!"}},{"$f":"'1000 stiga viðmið'!L:L/(POWER(Tímar!$E$2,1/3)/10)","v":{"$error":"#DIV/0!"}},{"$f":"'1000 stiga viðmið'!M:M/(POWER(Tímar!$E$2,1/3)/10)","v":{"$error":"#DIV/0!"}},{"$f":"'1000 stiga viðmið'!N:N/(POWER(Tímar!$E$2,1/3)/10)","v":{"$error":"#DIV/0!"}},{"$f":"'1000 stiga viðmið'!O:O/(POWER(Tímar!$E$2,1/3)/10)","v":{"$error":"#DIV/0!"}},{"$f":"'1000 stiga viðmið'!P:P/(POWER(Tímar!$E$2,1/3)/10)","v":{"$error":"#DIV/0!"}},{"$f":"'1000 stiga viðmið'!Q:Q/(POWER(Tímar!$E$2,1/3)/10)","v":{"$error":"#DIV/0!"}},{"$f":"'1000 stiga viðmið'!R:R/(POWER(Tímar!$E$2,1/3)/10)","v":{"$error":"#DIV/0!"}},{"$f":"'1000 stiga viðmið'!S:S/(POWER(Tímar!$E$2,1/3)/10)","v":{"$error":"#DIV/0!"}},{"$f":"'1000 stiga viðmið'!T:T/(POWER(Tímar!$E$2,1/3)/10)","v":{"$error":"#DIV/0!"}},"S9"]
["S10",{"$f":"'1000 stiga viðmið'!B:B/(POWER(Tímar!$E$2,1/3)/10)","v":{"$error":"#DIV/0!"}},{"$f":"'1000 stiga viðmið'!C:C/(POWER(Tímar!$E$2,1/3)/10)","v":{"$error":"#DIV/0!"}},{"$f":"'1000 stiga viðmið'!D:D/(POWER(Tímar!$E$2,1/3)/10)","v":{"$error":"#DIV/0!"}},{"$f":"'1000 stiga viðmið'!E:E/(POWER(Tímar!$E$2,1/3)/10)","v":{"$error":"#DIV/0!"}},{"$f":"'1000 stiga viðmið'!F:F/(POWER(Tímar!$E$2,1/3)/10)","v":{"$error":"#DIV/0!"}},{"$f":"'1000 stiga viðmið'!G:G/(POWER(Tímar!$E$2,1/3)/10)","v":{"$error":"#DIV/0!"}},{"$f":"'1000 stiga viðmið'!H:H/(POWER(Tímar!$E$2,1/3)/10)","v":{"$error":"#DIV/0!"}},{"$f":"'1000 stiga viðmið'!I:I/(POWER(Tímar!$E$2,1/3)/10)","v":{"$error":"#DIV/0!"}},{"$f":"'1000 stiga viðmið'!J:J/(POWER(Tímar!$E$2,1/3)/10)","v":{"$error":"#DIV/0!"}},{"$f":"'1000 stiga viðmið'!K:K/(POWER(Tímar!$E$2,1/3)/10)","v":{"$error":"#DIV/0!"}},{"$f":"'1000 stiga viðmið'!L:L/(POWER(Tímar!$E$2,1/3)/10)","v":{"$error":"#DIV/0!"}},{"$f":"'1000 stiga viðmið'!M:M/(POWER(Tímar!$E$2,1/3)/10)","v":{"$error":"#DIV/0!"}},{"$f":"'1000 stiga viðmið'!N:N/(POWER(Tímar!$E$2,1/3)/10)","v":{"$error":"#DIV/0!"}},{"$f":"'1000 stiga viðmið'!O:O/(POWER(Tímar!$E$2,1/3)/10)","v":{"$error":"#DIV/0!"}},{"$f":"'1000 stiga viðmið'!P:P/(POWER(Tímar!$E$2,1/3)/10)","v":{"$error":"#DIV/0!"}},{"$f":"'1000 stiga viðmið'!Q:Q/(POWER(Tímar!$E$2,1/3)/10)","v":{"$error":"#DIV/0!"}},{"$f":"'1000 stiga viðmið'!R:R/(POWER(Tímar!$E$2,1/3)/10)","v":{"$error":"#DIV/0!"}},{"$f":"'1000 stiga viðmið'!S:S/(POWER(Tímar!$E$2,1/3)/10)","v":{"$error":"#DIV/0!"}},{"$f":"'1000 stiga viðmið'!T:T/(POWER(Tímar!$E$2,1/3)/10)","v":{"$error":"#DIV/0!"}},"S10"]
["S11",{"$f":"'1000 stiga viðmið'!B:B/(POWER(Tímar!$E$2,1/3)/10)","v":{"$error":"#DIV/0!"}},{"$f":"'1000 stiga viðmið'!C:C/(POWER(Tímar!$E$2,1/3)/10)","v":{"$error":"#DIV/0!"}},{"$f":"'1000 stiga viðmið'!D:D/(POWER(Tímar!$E$2,1/3)/10)","v":{"$error":"#DIV/0!"}},{"$f":"'1000 stiga viðmið'!E:E/(POWER(Tímar!$E$2,1/3)/10)","v":{"$error":"#DIV/0!"}},{"$f":"'1000 stiga viðmið'!F:F/(POWER(Tímar!$E$2,1/3)/10)","v":{"$error":"#DIV/0!"}},{"$f":"'1000 stiga viðmið'!G:G/(POWER(Tímar!$E$2,1/3)/10)","v":{"$error":"#DIV/0!"}},{"$f":"'1000 stiga viðmið'!H:H/(POWER(Tímar!$E$2,1/3)/10)","v":{"$error":"#DIV/0!"}},{"$f":"'1000 stiga viðmið'!I:I/(POWER(Tímar!$E$2,1/3)/10)","v":{"$error":"#DIV/0!"}},{"$f":"'1000 stiga viðmið'!J:J/(POWER(Tímar!$E$2,1/3)/10)","v":{"$error":"#DIV/0!"}},{"$f":"'1000 stiga viðmið'!K:K/(POWER(Tímar!$E$2,1/3)/10)","v":{"$error":"#DIV/0!"}},{"$f":"'1000 stiga viðmið'!L:L/(POWER(Tímar!$E$2,1/3)/10)","v":{"$error":"#DIV/0!"}},{"$f":"'1000 stiga viðmið'!M:M/(POWER(Tímar!$E$2,1/3)/10)","v":{"$error":"#DIV/0!"}},{"$f":"'1000 stiga viðmið'!N:N/(POWER(Tímar!$E$2,1/3)/10)","v":{"$error":"#DIV/0!"}},{"$f":"'1000 stiga viðmið'!O:O/(POWER(Tímar!$E$2,1/3)/10)","v":{"$error":"#DIV/0!"}},{"$f":"'1000 stiga viðmið'!P:P/(POWER(Tímar!$E$2,1/3)/10)","v":{"$error":"#DIV/0!"}},{"$f":"'1000 stiga viðmið'!Q:Q/(POWER(Tímar!$E$2,1/3)/10)","v":{"$error":"#DIV/0!"}},{"$f":"'1000 stiga viðmið'!R:R/(POWER(Tímar!$E$2,1/3)/10)","v":{"$error":"#DIV/0!"}},{"$f":"'1000 stiga viðmið'!S:S/(POWER(Tímar!$E$2,1/3)/10)","v":{"$error":"#DIV/0!"}},{"$f":"'1000 stiga viðmið'!T:T/(POWER(Tímar!$E$2,1/3)/10)","v":{"$error":"#DIV/0!"}},"S11"]
["S12",{"$f":"'1000 stiga viðmið'!B:B/(POWER(Tímar!$E$2,1/3)/10)","v":{"$error":"#DIV/0!"}},{"$f":"'1000 stiga viðmið'!C:C/(POWER(Tímar!$E$2,1/3)/10)","v":{"$error":"#DIV/0!"}},{"$f":"'1000 stiga viðmið'!D:D/(POWER(Tímar!$E$2,1/3)/10)","v":{"$error":"#DIV/0!"}},{"$f":"'1000 stiga viðmið'!E:E/(POWER(Tímar!$E$2,1/3)/10)","v":{"$error":"#DIV/0!"}},{"$f":"'1000 stiga viðmið'!F:F/(POWER(Tímar!$E$2,1/3)/10)","v":{"$error":"#DIV/0!"}},{"$f":"'1000 stiga viðmið'!G:G/(POWER(Tímar!$E$2,1/3)/10)","v":{"$error":"#DIV/0!"}},{"$f":"'1000 stiga viðmið'!H:H/(POWER(Tímar!$E$2,1/3)/10)","v":{"$error":"#DIV/0!"}},{"$f":"'1000 stiga viðmið'!I:I/(POWER(Tímar!$E$2,1/3)/10)","v":{"$error":"#DIV/0!"}},{"$f":"'1000 stiga viðmið'!J:J/(POWER(Tímar!$E$2,1/3)/10)","v":{"$error":"#DIV/0!"}},{"$f":"'1000 stiga viðmið'!K:K/(POWER(Tímar!$E$2,1/3)/10)","v":{"$error":"#DIV/0!"}},{"$f":"'1000 stiga viðmið'!L:L/(POWER(Tímar!$E$2,1/3)/10)","v":{"$error":"#DIV/0!"}},{"$f":"'1000 stiga viðmið'!M:M/(POWER(Tímar!$E$2,1/3)/10)","v":{"$error":"#DIV/0!"}},{"$f":"'1000 stiga viðmið'!N:N/(POWER(Tímar!$E$2,1/3)/10)","v":{"$error":"#DIV/0!"}},{"$f":"'1000 stiga viðmið'!O:O/(POWER(Tímar!$E$2,1/3)/10)","v":{"$error":"#DIV/0!"}},{"$f":"'1000 stiga viðmið'!P:P/(POWER(Tímar!$E$2,1/3)/10)","v":{"$error":"#DIV/0!"}},{"$f":"'1000 stiga viðmið'!Q:Q/(POWER(Tímar!$E$2,1/3)/10)","v":{"$error":"#DIV/0!"}},{"$f":"'1000 stiga viðmið'!R:R/(POWER(Tímar!$E$2,1/3)/10)","v":{"$error":"#DIV/0!"}},{"$f":"'1000 stiga viðmið'!S:S/(POWER(Tímar!$E$2,1/3)/10)","v":{"$error":"#DIV/0!"}},{"$f":"'1000 stiga viðmið'!T:T/(POWER(Tímar!$E$2,1/3)/10)","v":{"$error":"#DIV/0!"}},"S12"]
["S13",{"$f":"'1000 stiga viðmið'!B:B/(POWER(Tímar!$E$2,1/3)/10)","v":{"$error":"#DIV/0!"}},{"$f":"'1000 stiga viðmið'!C:C/(POWER(Tímar!$E$2,1/3)/10)","v":{"$error":"#DIV/0!"}},{"$f":"'1000 stiga viðmið'!D:D/(POWER(Tímar!$E$2,1/3)/10)","v":{"$error":"#DIV/0!"}},{"$f":"'1000 stiga viðmið'!E:E/(POWER(Tímar!$E$2,1/3)/10)","v":{"$error":"#DIV/0!"}},{"$f":"'1000 stiga viðmið'!F:F/(POWER(Tímar!$E$2,1/3)/10)","v":{"$error":"#DIV/0!"}},{"$f":"'1000 stiga viðmið'!G:G/(POWER(Tímar!$E$2,1/3)/10)","v":{"$error":"#DIV/0!"}},{"$f":"'1000 stiga viðmið'!H:H/(POWER(Tímar!$E$2,1/3)/10)","v":{"$error":"#DIV/0!"}},{"$f":"'1000 stiga viðmið'!I:I/(POWER(Tímar!$E$2,1/3)/10)","v":{"$error":"#DIV/0!"}},{"$f":"'1000 stiga viðmið'!J:J/(POWER(Tímar!$E$2,1/3)/10)","v":{"$error":"#DIV/0!"}},{"$f":"'1000 stiga viðmið'!K:K/(POWER(Tímar!$E$2,1/3)/10)","v":{"$error":"#DIV/0!"}},{"$f":"'1000 stiga viðmið'!L:L/(POWER(Tímar!$E$2,1/3)/10)","v":{"$error":"#DIV/0!"}},{"$f":"'1000 stiga viðmið'!M:M/(POWER(Tímar!$E$2,1/3)/10)","v":{"$error":"#DIV/0!"}},{"$f":"'1000 stiga viðmið'!N:N/(POWER(Tímar!$E$2,1/3)/10)","v":{"$error":"#DIV/0!"}},{"$f":"'1000 stiga viðmið'!O:O/(POWER(Tímar!$E$2,1/3)/10)","v":{"$error":"#DIV/0!"}},{"$f":"'1000 stiga viðmið'!P:P/(POWER(Tímar!$E$2,1/3)/10)","v":{"$error":"#DIV/0!"}},{"$f":"'1000 stiga viðmið'!Q:Q/(POWER(Tímar!$E$2,1/3)/10)","v":{"$error":"#DIV/0!"}},{"$f":"'1000 stiga viðmið'!R:R/(POWER(Tímar!$E$2,1/3)/10)","v":{"$error":"#DIV/0!"}},{"$f":"'1000 stiga viðmið'!S:S/(POWER(Tímar!$E$2,1/3)/10)","v":{"$error":"#DIV/0!"}},{"$f":"'1000 stiga viðmið'!T:T/(POWER(Tímar!$E$2,1/3)/10)","v":{"$error":"#DIV/0!"}},"S13"]
["S14",{"$f":"'1000 stiga viðmið'!B:B/(POWER(Tímar!$E$2,1/3)/10)","v":{"$error":"#DIV/0!"}},{"$f":"'1000 stiga viðmið'!C:C/(POWER(Tímar!$E$2,1/3)/10)","v":{"$error":"#DIV/0!"}},{"$f":"'1000 stiga viðmið'!D:D/(POWER(Tímar!$E$2,1/3)/10)","v":{"$error":"#DIV/0!"}},{"$f":"'1000 stiga viðmið'!E:E/(POWER(Tímar!$E$2,1/3)/10)","v":{"$error":"#DIV/0!"}},{"$f":"'1000 stiga viðmið'!F:F/(POWER(Tímar!$E$2,1/3)/10)","v":{"$error":"#DIV/0!"}},{"$f":"'1000 stiga viðmið'!G:G/(POWER(Tímar!$E$2,1/3)/10)","v":{"$error":"#DIV/0!"}},{"$f":"'1000 stiga viðmið'!H:H/(POWER(Tímar!$E$2,1/3)/10)","v":{"$error":"#DIV/0!"}},{"$f":"'1000 stiga viðmið'!I:I/(POWER(Tímar!$E$2,1/3)/10)","v":{"$error":"#DIV/0!"}},{"$f":"'1000 stiga viðmið'!J:J/(POWER(Tímar!$E$2,1/3)/10)","v":{"$error":"#DIV/0!"}},{"$f":"'1000 stiga viðmið'!K:K/(POWER(Tímar!$E$2,1/3)/10)","v":{"$error":"#DIV/0!"}},{"$f":"'1000 stiga viðmið'!L:L/(POWER(Tímar!$E$2,1/3)/10)","v":{"$error":"#DIV/0!"}},{"$f":"'1000 stiga viðmið'!M:M/(POWER(Tímar!$E$2,1/3)/10)","v":{"$error":"#DIV/0!"}},{"$f":"'1000 stiga viðmið'!N:N/(POWER(Tímar!$E$2,1/3)/10)","v":{"$error":"#DIV/0!"}},{"$f":"'1000 stiga viðmið'!O:O/(POWER(Tímar!$E$2,1/3)/10)","v":{"$error":"#DIV/0!"}},{"$f":"'1000 stiga viðmið'!P:P/(POWER(Tímar!$E$2,1/3)/10)","v":{"$error":"#DIV/0!"}},{"$f":"'1000 stiga viðmið'!Q:Q/(POWER(Tímar!$E$2,1/3)/10)","v":{"$error":"#DIV/0!"}},{"$f":"'1000 stiga viðmið'!R:R/(POWER(Tímar!$E$2,1/3)/10)","v":{"$error":"#DIV/0!"}},{"$f":"'1000 stiga viðmið'!S:S/(POWER(Tímar!$E$2,1/3)/10)","v":{"$error":"#DIV/0!"}},{"$f":"'1000 stiga viðmið'!T:T/(POWER(Tímar!$E$2,1/3)/10)","v":{"$error":"#DIV/0!"}},"S14"]
["S16",{"$f":"'1000 stiga viðmið'!B:B/(POWER(Tímar!$E$2,1/3)/10)","v":{"$error":"#DIV/0!"}},{"$f":"'1000 stiga viðmið'!C:C/(POWER(Tímar!$E$2,1/3)/10)","v":{"$error":"#DIV/0!"}},{"$f":"'1000 stiga viðmið'!D:D/(POWER(Tímar!$E$2,1/3)/10)","v":{"$error":"#DIV/0!"}},{"$f":"'1000 stiga viðmið'!E:E/(POWER(Tímar!$E$2,1/3)/10)","v":{"$error":"#DIV/0!"}},{"$f":"'1000 stiga viðmið'!F:F/(POWER(Tímar!$E$2,1/3)/10)","v":{"$error":"#DIV/0!"}},{"$f":"'1000 stiga viðmið'!G:G/(POWER(Tímar!$E$2,1/3)/10)","v":{"$error":"#DIV/0!"}},{"$f":"'1000 stiga viðmið'!H:H/(POWER(Tímar!$E$2,1/3)/10)","v":{"$error":"#DIV/0!"}},{"$f":"'1000 stiga viðmið'!I:I/(POWER(Tímar!$E$2,1/3)/10)","v":{"$error":"#DIV/0!"}},{"$f":"'1000 stiga viðmið'!J:J/(POWER(Tímar!$E$2,1/3)/10)","v":{"$error":"#DIV/0!"}},{"$f":"'1000 stiga viðmið'!K:K/(POWER(Tímar!$E$2,1/3)/10)","v":{"$error":"#DIV/0!"}},{"$f":"'1000 stiga viðmið'!L:L/(POWER(Tímar!$E$2,1/3)/10)","v":{"$error":"#DIV/0!"}},{"$f":"'1000 stiga viðmið'!M:M/(POWER(Tímar!$E$2,1/3)/10)","v":{"$error":"#DIV/0!"}},{"$f":"'1000 stiga viðmið'!N:N/(POWER(Tímar!$E$2,1/3)/10)","v":{"$error":"#DIV/0!"}},{"$f":"'1000 stiga viðmið'!O:O/(POWER(Tímar!$E$2,1/3)/10)","v":{"$error":"#DIV/0!"}},{"$f":"'1000 stiga viðmið'!P:P/(POWER(Tímar!$E$2,1/3)/10)","v":{"$error":"#DIV/0!"}},{"$f":"'1000 stiga viðmið'!Q:Q/(POWER(Tímar!$E$2,1/3)/10)","v":{"$error":"#DIV/0!"}},{"$f":"'1000 stiga viðmið'!R:R/(POWER(Tímar!$E$2,1/3)/10)","v":{"$error":"#DIV/0!"}},{"$f":"'1000 stiga viðmið'!S:S/(POWER(Tímar!$E$2,1/3)/10)","v":{"$error":"#DIV/0!"}},{"$f":"'1000 stiga viðmið'!T:T/(POWER(Tímar!$E$2,1/3)/10)","v":{"$error":"#DIV/0!"}},"S15"]
["S18",{"$f":"'1000 stiga viðmið'!B:B/(POWER(Tímar!$E$2,1/3)/10)","v":{"$error":"#DIV/0!"}},{"$f":"'1000 stiga viðmið'!C:C/(POWER(Tímar!$E$2,1/3)/10)","v":{"$error":"#DIV/0!"}},{"$f":"'1000 stiga viðmið'!D:D/(POWER(Tímar!$E$2,1/3)/10)","v":{"$error":"#DIV/0!"}},{"$f":"'1000 stiga viðmið'!E:E/(POWER(Tímar!$E$2,1/3)/10)","v":{"$error":"#DIV/0!"}},{"$f":"'1000 stiga viðmið'!F:F/(POWER(Tímar!$E$2,1/3)/10)","v":{"$error":"#DIV/0!"}},{"$f":"'1000 stiga viðmið'!G:G/(POWER(Tímar!$E$2,1/3)/10)","v":{"$error":"#DIV/0!"}},{"$f":"'1000 stiga viðmið'!H:H/(POWER(Tímar!$E$2,1/3)/10)","v":{"$error":"#DIV/0!"}},{"$f":"'1000 stiga viðmið'!I:I/(POWER(Tímar!$E$2,1/3)/10)","v":{"$error":"#DIV/0!"}},{"$f":"'1000 stiga viðmið'!J:J/(POWER(Tímar!$E$2,1/3)/10)","v":{"$error":"#DIV/0!"}},{"$f":"'1000 stiga viðmið'!K:K/(POWER(Tímar!$E$2,1/3)/10)","v":{"$error":"#DIV/0!"}},{"$f":"'1000 stiga viðmið'!L:L/(POWER(Tímar!$E$2,1/3)/10)","v":{"$error":"#DIV/0!"}},{"$f":"'1000 stiga viðmið'!M:M/(POWER(Tímar!$E$2,1/3)/10)","v":{"$error":"#DIV/0!"}},{"$f":"'1000 stiga viðmið'!N:N/(POWER(Tímar!$E$2,1/3)/10)","v":{"$error":"#DIV/0!"}},{"$f":"'1000 stiga viðmið'!O:O/(POWER(Tímar!$E$2,1/3)/10)","v":{"$error":"#DIV/0!"}},{"$f":"'1000 stiga viðmið'!P:P/(POWER(Tímar!$E$2,1/3)/10)","v":{"$error":"#DIV/0!"}},{"$f":"'1000 stiga viðmið'!Q:Q/(POWER(Tímar!$E$2,1/3)/10)","v":{"$error":"#DIV/0!"}},{"$f":"'1000 stiga viðmið'!R:R/(POWER(Tímar!$E$2,1/3)/10)","v":{"$error":"#DIV/0!"}},{"$f":"'1000 stiga viðmið'!S:S/(POWER(Tímar!$E$2,1/3)/10)","v":{"$error":"#DIV/0!"}},{"$f":"'1000 stiga viðmið'!T:T/(POWER(Tímar!$E$2,1/3)/10)","v":{"$error":"#DIV/0!"}},"S16"]
["S20",{"$f":"'1000 stiga viðmið'!B:B/(POWER(Tímar!$E$2,1/3)/10)","v":{"$error":"#DIV/0!"}},{"$f":"'1000 stiga viðmið'!C:C/(POWER(Tímar!$E$2,1/3)/10)","v":{"$error":"#DIV/0!"}},{"$f":"'1000 stiga viðmið'!D:D/(POWER(Tímar!$E$2,1/3)/10)","v":{"$error":"#DIV/0!"}},{"$f":"'1000 stiga viðmið'!E:E/(POWER(Tímar!$E$2,1/3)/10)","v":{"$error":"#DIV/0!"}},{"$f":"'1000 stiga viðmið'!F:F/(POWER(Tímar!$E$2,1/3)/10)","v":{"$error":"#DIV/0!"}},{"$f":"'1000 stiga viðmið'!G:G/(POWER(Tímar!$E$2,1/3)/10)","v":{"$error":"#DIV/0!"}},{"$f":"'1000 stiga viðmið'!H:H/(POWER(Tímar!$E$2,1/3)/10)","v":{"$error":"#DIV/0!"}},{"$f":"'1000 stiga viðmið'!I:I/(POWER(Tímar!$E$2,1/3)/10)","v":{"$error":"#DIV/0!"}},{"$f":"'1000 stiga viðmið'!J:J/(POWER(Tímar!$E$2,1/3)/10)","v":{"$error":"#DIV/0!"}},{"$f":"'1000 stiga viðmið'!K:K/(POWER(Tímar!$E$2,1/3)/10)","v":{"$error":"#DIV/0!"}},{"$f":"'1000 stiga viðmið'!L:L/(POWER(Tímar!$E$2,1/3)/10)","v":{"$error":"#DIV/0!"}},{"$f":"'1000 stiga viðmið'!M:M/(POWER(Tímar!$E$2,1/3)/10)","v":{"$error":"#DIV/0!"}},{"$f":"'1000 stiga viðmið'!N:N/(POWER(Tímar!$E$2,1/3)/10)","v":{"$error":"#DIV/0!"}},{"$f":"'1000 stiga viðmið'!O:O/(POWER(Tímar!$E$2,1/3)/10)","v":{"$error":"#DIV/0!"}},{"$f":"'1000 stiga viðmið'!P:P/(POWER(Tímar!$E$2,1/3)/10)","v":{"$error":"#DIV/0!"}},{"$f":"'1000 stiga viðmið'!Q:Q/(POWER(Tímar!$E$2,1/3)/10)","v":{"$error":"#DIV/0!"}},{"$f":"'1000 stiga viðmið'!R:R/(POWER(Tímar!$E$2,1/3)/10)","v":{"$error":"#DIV/0!"}},{"$f":"'1000 stiga viðmið'!S:S/(POWER(Tímar!$E$2,1/3)/10)","v":{"$error":"#DIV/0!"}},{"$f":"'1000 stiga viðmið'!T:T/(POWER(Tímar!$E$2,1/3)/10)","v":{"$error":"#DIV/0!"}},"S20"]

{"sheet":"1000 stiga viðmið","index":1,"n_rows":42,"n_cols":21,"rows_kept":42,"cut":false,"hidden":false,"merged":[]}
[]
[]
[]
["1000 stiga tafla fyrir KVK"]
[null,"50 skrið","100 skrið","200 skrið","400 skrið","800 skrið","1500 skrið","50 flug","100 flug","200 flug","50 bak","100 bak","200 bak","50 bringa","100 bringa","200 bringa","100 fjór","150 þrísund","200 fjór","400 fjór"]
["S1",null,null,null,null,null,null,null,null,null,null,null,null,null,null,null,null,null,null,null,"S1"]
["S2","00:00:55.247","00:02:01.227","00:04:23.035","00:09:16.779","00:19:09.785","00:36:20.391","00:00:58.367","00:02:10.330","00:04:43.593","00:01:03","00:02:15.313","00:04:48.831","00:01:08.634","00:02:29.817","00:05:23.870","00:02:16.100",null,"00:04:53.697","00:10:24.948","S2"]
["S3","00:00:47.400","00:01:37.580","00:03:38.700","00:07:42.933","00:15:55.986","00:30:12.882","00:00:48.529","00:01:48.363","00:03:55.793","00:00:52.381","00:01:52.505","00:04:00.148","00:00:57.066","00:02:04.565","00:04:29.281","00:01:53.160",null,"00:04:04.194","00:08:39.612","S3"]
["S4","00:00:41.312","00:01:30.650","00:03:16.690","00:06:56.343","00:14:19.776","00:27:10.433","00:00:43.645","00:01:37.457","00:03:32.063","00:00:50.490","00:01:48.443","00:03:51.478","00:00:47.640","00:01:43.990","00:03:44.803","00:01:41.772",null,"00:03:39.618","00:07:47.318","S4"]
["S5","00:00:35.880","00:01:18.550","00:02:49.740","00:06:00.554","00:12:24.567","00:23:31.958","00:00:41.760","00:01:33.248","00:03:22.903","00:00:42.089","00:01:30.400","00:03:12.963","00:00:43.535","00:01:35.030","00:03:25.433","00:01:29.636",null,"00:03:13.430","00:06:51.593","S5"]
["S6","00:00:34.770","00:01:13.330","00:02:38.478","00:05:19.170","00:11:32.743","00:21:53.681","00:00:36.050","00:01:20.498","00:02:55.160","00:00:39.440","00:01:24.710","00:03:00.818","00:00:45.413","00:01:39.130","00:03:34.296","00:01:25.456",null,"00:03:04.410","00:06:32.399","S6"]
["S7","00:00:32.310","00:01:08.030","00:02:27.568","00:04:59.020","00:10:45.051","00:20:23.240","00:00:34.800","00:01:17.707","00:02:49.086","00:00:37.978","00:01:21.570","00:02:54.115","00:00:40.557","00:01:28.530","00:03:11.382","00:01:20.827",null,"00:02:54.420","00:06:11.142","S7"]
["S8","00:00:30.280","00:01:05.630","00:02:19.974","00:04:42.280","00:10:11.858","00:19:20.294","00:00:31.255","00:01:09.790","00:02:31.860","00:00:35.850","00:01:17","00:02:44.360","00:00:35.353","00:01:17.170","00:02:46.824","00:01:12.291",null,"00:02:36","00:05:31.947","S8"]
["S9","00:00:29.120","00:01:02.770","00:02:14.159","00:04:30.180","00:09:46.439","00:18:32.093","00:00:31.035","00:01:09.300","00:02:30.794","00:00:32.321","00:01:09.420","00:02:28.180","00:00:35.518","00:01:17.530","00:02:47.602","00:01:10.780",null,"00:02:32.740","00:05:25.010","S9"]
["S10","00:00:27.780","00:01:00.150","00:02:10.549","00:04:32.790","00:09:30.657","00:18:02.164","00:00:28.639","00:01:03.950","00:02:19.152","00:00:30.682","00:01:05.900","00:02:20.667","00:00:35.518","00:01:17.530","00:02:47.602","00:01:07.495",null,"00:02:25.650","00:05:09.923","S10"]
["S11","00:00:30.940","00:01:07.290","00:02:26.795","00:05:11.320","00:10:41.674","00:20:16.837","00:00:33.138","00:01:13.996","00:02:41.012","00:00:36.591","00:01:18.590","00:02:47.754","00:00:40.026","00:01:27.370","00:03:08.874","00:01:17.347",null,"00:02:46.910","00:05:55.162","S11"]
["S12","00:00:26.900","00:00:58.410","00:02:08.697","00:04:37.890","00:09:22.562","00:17:46.812","00:00:29.284","00:01:05.390","00:02:22.286","00:00:31.655","00:01:07.990","00:02:25.128","00:00:34.863","00:01:16.100","00:02:44.511","00:01:08.584",null,"00:02:28","00:05:14.924","S12"]
["S13","00:00:26.900","00:00:58.410","00:02:07.404","00:04:29.683","00:09:16.912","00:17:36.099","00:00:28.882","00:01:04.493","00:02:20.334","00:00:31.175","00:01:06.959","00:02:22.926","00:00:34.863","00:01:16.100","00:02:44.511","00:01:08.417",null,"00:02:27.640","00:05:14.158","S13"]
["S14","00:00:27.280","00:00:59.859","00:02:09.880","00:04:34.923","00:09:27.734","00:17:56.620","00:00:29.029","00:01:04.820","00:02:21.045","00:00:30.575","00:01:05.670","00:02:20.176","00:00:35.206","00:01:16.850","00:02:46.132","00:01:07.690",null,"00:02:26.071","00:05:10.818","S14"]
["S16","00:00:34.170","00:01:19.273","00:02:51.300","00:05:49.933","00:12:00.893","00:23:31.247","00:00:36.543","00:01:25.839","00:03:20.649","00:00:41.364","00:01:28.370","00:03:23.863","00:00:45.104","00:01:39.295","00:03:39.756","00:01:28.903",null,"00:03:11.848","00:06:53.857","S16"]
["S18","00:00:26.150","00:00:57.290","00:02:07.130","00:04:27.820","00:09:09.730","00:17:54.540","00:00:29.160","00:01:04.020","00:02:20.030","00:00:31.110","00:01:06.820","00:02:25.710","00:00:33.270","00:01:12.340","00:02:35.650","00:01:06.890",null,"00:02:22.780","00:05:04.070","S15"]
["S20","00:00:23.730","00:00:52.070","00:01:52.980","00:03:59.150","00:08:13.860","00:15:36.530","00:00:25.070","00:00:55.980","00:02:01.810","00:00:27.060","00:00:58.120","00:02:04.060","00:00:29.480","00:01:04.350","00:02:19.110","00:00:57.450",null,"00:02:06.150","00:04:28.430","S20"]
[]
["1000 stiga tafla fyrir KK"]
[null,"50 skrið","100 skrið","200 skrið","400 skrið","800 skrið","1500 skrið","50 flug","100 flug","200 flug","50 bak","100 bak","200 bak","50 bringa","100 bringa","200 bringa","100 fjór","150 þrísund","200 fjór","400 fjór"]
["S1","00:00:55.919","00:02:05.451","00:04:32.778","00:09:48.532","00:20:09.101","00:38:49.363","00:00:59.984","00:02:13.233","00:04:58.210","00:01:04.290","00:02:18.903","00:04:59.307","00:01:11.323","00:02:36.339","00:05:39.662","00:02:21.019",null,"00:05:04.869","00:10:52.100","S1"]
["S2","00:01:01.050","00:02:03.710","00:04:34.390","00:10:04.967","00:20:42.868","00:39:54.414","00:00:57.756","00:02:08.283","00:04:47.130","00:00:59.420","00:02:08.381","00:04:36.634","00:00:57.500","00:02:06.039","00:04:33.831","00:01:53.688",null,"00:04:05.782","00:08:45.714","S2"]
["S3","00:00:38.037","00:01:25.334","00:03:05.548","00:06:40.329","00:13:42.450","00:26:24.470","00:00:40.802","00:01:30.627","00:03:22.848","00:00:42.510","00:01:31.846","00:03:17.908","00:00:49.870","00:01:49.314","00:03:57.495","00:01:35.923","00:02:43.720","00:03:27.377","00:07:23.569","S3"]
["S4","00:00:37.850","00:01:24.280","00:02:58.090","00:06:32.660","00:13:26.695","00:25:54.118","00:00:39.025","00:01:26.681","00:03:14.014","00:00:42.510","00:01:31.846","00:03:17.908","00:00:42.094","00:01:32.270","00:03:20.465","00:01:31.746","00:02:25.980","00:03:18.346","00:07:04.252","S4"]
["S5","00:00:32.050","00:01:09.350","00:02:27.830","00:05:27.203","00:11:12.217","00:21:35.043","00:00:34.150","00:01:15.852","00:02:49.776","00:00:34.990","00:01:15.598","00:02:42.899","00:00:42.094","00:01:32.270","00:03:20.465","00:01:19.245",null,"00:02:51.319","00:06:06.442","S5"]
["S6","00:00:28.570","00:01:05.820","00:02:19.824","00:04:55.560","00:10:19.777","00:19:54.015","00:00:29.900","00:01:06.412","00:02:28.647","00:00:34.047","00:01:13.560","00:02:38.507","00:00:36.574","00:01:20.170","00:02:54.177","00:01:13.371",null,"00:02:38.620","00:05:39.280","S6"]
["S7","00:00:27.840","00:01:00.570","00:02:12.295","00:04:39.140","00:09:46.404","00:18:49.722","00:00:29.490","00:01:05.501","00:02:26.609","00:00:32.177","00:01:09.520","00:02:29.801","00:00:35.507","00:01:17.830","00:02:49.093","00:01:10.831",null,"00:02:33.130","00:05:27.537","S7"]
["S8","00:00:25.810","00:00:56.480","00:02:04.171","00:04:27.110","00:09:10.395","00:17:40.349","00:00:27.283","00:01:00.600","00:02:15.638","00:00:29.307","00:01:03.320","00:02:16.442","00:00:30.589","00:01:07.050","00:02:25.673","00:01:06.034",null,"00:02:22.760","00:05:05.356","S8"]
["S9","00:00:25.130","00:00:55.200","00:01:59.484","00:04:09.930","00:08:49.617","00:17:00.319","00:00:26.806","00:00:59.540","00:02:13.266","00:00:28.877","00:01:02.390","00:02:14.438","00:00:29.207","00:01:04.020","00:02:19.090","00:01:02.334",null,"00:02:14.760","00:04:48.245","S9"]
["S10","00:00:23.160","00:00:51.070","00:01:52.511","00:04:04.910","00:08:18.712","00:16:00.781","00:00:25.370","00:00:56.350","00:02:06.126","00:00:27.775","00:01:00.010","00:02:09.309","00:00:29.207","00:01:04.020","00:02:19.090","00:01:00.137",null,"00:02:10.010","00:04:38.085","S10"]
["S11","00:00:25.270","00:00:57.180","00:02:04.619","00:04:32.410","00:09:12.382","00:17:44.176","00:00:28.508","00:01:03.320","00:02:21.726","00:00:31.385","00:01:07.810","00:02:26.117","00:00:31.985","00:01:10.110","00:02:32.321","00:01:05.868",null,"00:02:22.400","00:05:04.586","S11"]
["S12","00:00:23.360","00:00:51.400","00:01:53.236","00:04:05.950","00:08:21.926","00:16:06.972","00:00:25.591","00:00:56.840","00:02:07.223","00:00:27.470","00:00:59.350","00:02:07.887","00:00:30.124","00:01:06.030","00:02:23.457","00:01:00.535",null,"00:02:10.870","00:04:39.924","S12"]
["S13","00:00:23.360","00:00:51.050","00:01:51.378","00:03:55.560","00:08:13.686","00:15:51.099","00:00:24.726","00:00:54.920","00:02:02.925","00:00:26.368","00:00:56.970","00:02:02.759","00:00:29.006","00:01:03.580","00:02:18.134","00:00:57.260",null,"00:02:03.790","00:04:24.780","S13"]
["S14","00:00:24.276","00:00:54.462","00:01:58.420","00:04:15.497","00:08:44.902","00:16:51.237","00:00:25.985","00:00:57.715","00:02:09.181","00:00:28.215","00:01:00.960","00:02:11.356","00:00:30.425","00:01:06.690","00:02:24.890","00:01:01.088",null,"00:02:12.066","00:04:42.482","S14"]
["S16","00:00:29.210","00:01:05.633","00:02:32.110","00:05:23.188","00:11:14.100","00:21:33.186","00:00:31.399","00:01:13.815","00:02:45.048","00:00:36.090","00:01:19.772","00:02:53.997","00:00:37.272","00:01:25.128","00:03:05.522","00:01:15.370",null,"00:02:42.942","00:06:05.706","S16"]
["S18","00:00:23.460","00:00:51.420","00:01:53.120","00:03:53.420","00:08:30.400","00:15:57.570","00:00:24.820","00:00:53.900","00:02:01.710","00:00:27.680","00:00:58.690","00:02:07.430","00:00:27.790","00:01:00","00:02:12.500","00:00:57.860",null,"00:02:03.330","00:04:16.920","S15"]
["S20","00:00:20.910","00:00:46.910","00:01:42","00:03:40.070","00:07:32.120","00:14:31.020","00:00:22.430","00:00:49.820","00:01:51.510","00:00:24.040","00:00:51.940","00:01:51.920","00:00:26.670","00:00:58.460","00:02:07.010","00:00:50.710",null,"00:01:54","00:04:03.840","S20"]